BEGIN:VCALENDAR
VERSION:2.0
PRODID:-//ChamberMaster//Event Calendar 2.0//EN
METHOD:PUBLISH
X-PUBLISHED-TTL:P3D
REFRESH-INTERVAL:P3D
CALSCALE:GREGORIAN
BEGIN:VEVENT
DTSTART:20200409T143000Z
DTEND:20200409T153000Z
X-MICROSOFT-CDO-ALLDAYEVENT:FALSE
SUMMARY:Zoom with Marty Morantz\, MP Charleswood-St.James-Assiniboia-Headingley
DESCRIPTION:We are happy to have Marty Morantz\, Member of Parliament for the Charleswood-St. James-Assiniboia Headingley Riding and the Shadow Minister for National Revenue\, join us today to talk about the measures that have been enacted for small business owners to help them during this stressful time and to mitigate the impacts of COVID-19 on their businesses.\n\n\n\nFollowing the presentation we will have a Q&A period that includes questions asked in advance of this session and for those asked during the call.\n\n\n\nSend questions in advance to kristi@assiniboiachamber.ca.
X-ALT-DESC;FMTTYPE=text/html:<span style="font-family:arial\;"><span style="color: rgb(35\, 35\, 51)\; font-size: 14px\;">We are happy to have Marty Morantz\, Member of Parliament for the Charleswood-St. James-Assiniboia Headingley Riding and the Shadow Minister for National Revenue\, join us today to talk about the measures that have been enacted for small business owners to help them during this stressful time and to mitigate the impacts of COVID-19 on their businesses.</span><br style="box-sizing: border-box\; color: rgb(35\, 35\, 51)\; font-family: Lato\, Helvetica\, Arial\; font-size: 14px\;" />\n<br style="box-sizing: border-box\; color: rgb(35\, 35\, 51)\; font-family: Lato\, Helvetica\, Arial\; font-size: 14px\;" />\n<span style="color: rgb(35\, 35\, 51)\; font-size: 14px\;">Following the presentation we will have a Q&amp\;A period that includes questions asked in advance of this session and for those asked during the call.<br />\n<br />\nSend questions in advance to <a href="mailto:kristi@assiniboiachamber.ca?subject=Question%20for%20Marty%20Morantz%2C%20MP">kristi@assiniboiachamber.ca</a>.</span></span>
LOCATION:This meeting will be held by video and tele-conferencing using the Zoom platform. When you register\, you will receive a confirmation email containing information about joining the meeting.
UID:e.2532.170
SEQUENCE:3
DTSTAMP:20260424T084303Z
URL:https://www.assiniboiachamber.ca/events/details/zoom-with-marty-morantz-mp-charleswood-st-james-assiniboia-headingley-170
END:VEVENT

END:VCALENDAR
