BEGIN:VCALENDAR
VERSION:2.0
PRODID:-//ChamberMaster//Event Calendar 2.0//EN
METHOD:PUBLISH
X-PUBLISHED-TTL:P3D
REFRESH-INTERVAL:P3D
CALSCALE:GREGORIAN
BEGIN:VEVENT
DTSTART:20200512T183000Z
DTEND:20200512T193000Z
X-MICROSOFT-CDO-ALLDAYEVENT:FALSE
SUMMARY:Zoom with Councillor Scott Gillingham
DESCRIPTION:We are happy to have Scott Gillingham\, City Councillor for the St. James ward join us today.\n\n\n\nFollowing the presentation we will have a Q&A period that includes questions asked in advance of this session and for those asked during the call.\n\n\n\nSend questions in advance to kristi@assiniboiachamber.ca.
X-ALT-DESC;FMTTYPE=text/html:<span style="font-family: arial\; color: rgb(35\, 35\, 51)\; font-size: 14px\;">We are happy to have Scott Gillingham\, City Councillor for the St. James ward join us today.</span><br style="box-sizing: border-box\; color: rgb(35\, 35\, 51)\; font-family: Lato\, Helvetica\, Arial\; font-size: 14px\;" />\n<br style="box-sizing: border-box\; color: rgb(35\, 35\, 51)\; font-family: Lato\, Helvetica\, Arial\; font-size: 14px\;" />\n<span style="font-family: arial\; color: rgb(35\, 35\, 51)\; font-size: 14px\;">Following the presentation we will have a Q&amp\;A period that includes questions asked in advance of this session and for those asked during the call.<br />\n<br />\nSend questions in advance to&nbsp\;<a href="mailto:kristi@assiniboiachamber.ca?subject=Question%20for%20Marty%20Morantz%2C%20MP">kristi@assiniboiachamber.ca</a>.</span>
LOCATION:Zoom
UID:e.2532.179
SEQUENCE:3
DTSTAMP:20260424T081658Z
URL:https://www.assiniboiachamber.ca/events/details/zoom-with-councillor-scott-gillingham-179
END:VEVENT

END:VCALENDAR
