BEGIN:VCALENDAR
VERSION:2.0
PRODID:-//ChamberMaster//Event Calendar 2.0//EN
METHOD:PUBLISH
X-PUBLISHED-TTL:P3D
REFRESH-INTERVAL:P3D
CALSCALE:GREGORIAN
BEGIN:VEVENT
DTSTART:20200416T143000Z
DTEND:20200416T153000Z
X-MICROSOFT-CDO-ALLDAYEVENT:FALSE
SUMMARY:Zoom: Leadership in Times of Crisis
DESCRIPTION:https://www.canteraleadership.com/post/4-traits-followers-want-in-leaders\n\n\n\nFollowing the presentation we will have a Q&A period that includes questions asked in advance of this session and for those asked during the call.
X-ALT-DESC;FMTTYPE=text/html:<span style="font-size:14px\;"><a href="https://www.canteraleadership.com/post/4-traits-followers-want-in-leaders">https://www.canteraleadership.com/post/4-traits-followers-want-in-leaders</a></span><br style="box-sizing: border-box\; color: rgb(35\, 35\, 51)\; font-family: Lato\, Helvetica\, Arial\; font-size: 14px\;" />\n<br style="box-sizing: border-box\; color: rgb(35\, 35\, 51)\; font-family: Lato\, Helvetica\, Arial\; font-size: 14px\;" />\n<span style="font-family:arial\;"><span style="color: rgb(35\, 35\, 51)\; font-size: 14px\;">Following the presentation we will have a Q&amp\;A period that includes questions asked in advance of this session and for those asked during the call.</span></span>
LOCATION:This meeting will be held by video and tele-conferencing using the Zoom platform. When you register\, you will receive a confirmation email containing information about joining the meeting.
UID:e.2532.171
SEQUENCE:3
DTSTAMP:20260424T082822Z
URL:https://www.assiniboiachamber.ca/events/details/zoom-leadership-in-times-of-crisis-171
END:VEVENT

END:VCALENDAR
