BEGIN:VCALENDAR
VERSION:2.0
PRODID:-//ChamberMaster//Event Calendar 2.0//EN
METHOD:PUBLISH
X-PUBLISHED-TTL:P3D
REFRESH-INTERVAL:P3D
CALSCALE:GREGORIAN
BEGIN:VEVENT
DTSTART:20241018T220000Z
DTEND:20241019T010000Z
X-MICROSOFT-CDO-ALLDAYEVENT:FALSE
SUMMARY:The Wellington Wine Pairing Menu
DESCRIPTION:Join us for a perfect evening at The Wellington\, designed for food and wine lovers! Indulge in an elegant wine pairing event featuring a delectable six-course meal\, expertly crafted to elevate your dining experience. Each course will be paired with exquisite wines\, enhancing the flavours and bringing out the best in every dish. Immerse yourself in a night of culinary delight and fine wines\, surrounded by fellow enthusiasts. Reserve your spot now and treat yourself to an unforgettable evening!
X-ALT-DESC;FMTTYPE=text/html:Join us for a perfect evening at The Wellington\, designed for food and wine lovers! Indulge in an elegant wine pairing event featuring a delectable six-course meal\, expertly crafted to elevate your dining experience. Each course will be paired with exquisite wines\, enhancing the flavours and bringing out the best in every dish. Immerse yourself in a night of culinary delight and fine wines\, surrounded by fellow enthusiasts. Reserve your spot now and treat yourself to an unforgettable evening!
LOCATION:The Wellington
UID:e.2532.660
SEQUENCE:3
DTSTAMP:20260421T065005Z
URL:https://www.assiniboiachamber.ca/events/details/the-wellington-wine-pairing-menu-660
END:VEVENT

END:VCALENDAR
