BEGIN:VCALENDAR
VERSION:2.0
PRODID:-//ChamberMaster//Event Calendar 2.0//EN
METHOD:PUBLISH
X-PUBLISHED-TTL:P3D
REFRESH-INTERVAL:P3D
CALSCALE:GREGORIAN
BEGIN:VEVENT
DTSTART;VALUE=DATE:20250509
DTEND;VALUE=DATE:20250510
TRANSP:TRANSPARENT
X-MICROSOFT-CDO-ALLDAYEVENT:TRUE
SUMMARY:The Rotary Club of Winnipeg - Assiniboine Charitable Foundation's Annual Fundraising Dinner
DESCRIPTION:The Rotary Club of Winnipeg - Assiniboine Charitable Foundation's Annual Fundraising Dinner takes place on Friday\, May 9\, 2025.  \n\n\n\nThroughout the evening\, guests are invited to participate in various raffles and auctions\, including a CASH RAFFLE PRIZE of $1\,000.00.  \n\n\n\nAll proceeds support Rotary Youth Programs such as Rotary Youth Leadership Assembly (RYLA) and Model United Nations Assembly (MUNA).\n\n\n\nIf you are unable to join us but would like to make a donation for our silent auction or raffle draws\, please let us know.\n\n\n\nThank you for supporting our cause\; your contribution is invaluable and we look forward to sharing a delightful evening with you!
X-ALT-DESC;FMTTYPE=text/html:The Rotary Club of Winnipeg - Assiniboine Charitable Foundation&#39\;s Annual Fundraising Dinner takes place on Friday\, May 9\, 2025.&nbsp\;&nbsp\;<br />\n<br />\nThroughout the evening\, guests are invited to participate in various raffles and auctions\, including a CASH RAFFLE PRIZE of $1\,000.00.&nbsp\;&nbsp\;<br />\n<br />\nAll proceeds support Rotary Youth Programs such as Rotary Youth Leadership Assembly (RYLA) and Model United Nations Assembly (MUNA).<br />\n<br />\nIf you are unable to join us but would like to make a donation for our silent auction or raffle draws\, please let us know.<br />\n<br />\nThank you for supporting our cause\; your contribution is invaluable and we look forward to sharing a delightful evening with you!
LOCATION:The Holiday Inn Winnipeg - Airport West
UID:e.2532.717
SEQUENCE:3
DTSTAMP:20260420T203046Z
URL:https://www.assiniboiachamber.ca/events/details/the-rotary-club-of-winnipeg-assiniboine-charitable-foundation-s-annual-fundraising-dinner-717
END:VEVENT

END:VCALENDAR
