BEGIN:VCALENDAR
VERSION:2.0
PRODID:-//ChamberMaster//Event Calendar 2.0//EN
METHOD:PUBLISH
X-PUBLISHED-TTL:P3D
REFRESH-INTERVAL:P3D
CALSCALE:GREGORIAN
BEGIN:VEVENT
DTSTART;VALUE=DATE:20250910
DTEND;VALUE=DATE:20250911
TRANSP:TRANSPARENT
X-MICROSOFT-CDO-ALLDAYEVENT:TRUE
SUMMARY:The Rotary 3rd Annual 'Green Spaces' Golf Tournament
DESCRIPTION:The Rotary Clubs of Winnipeg   Assiniboine and Winnipeg   Charleswood  \n\nsupport our beautiful community green spaces that provide benefits to our physical and mental health.  \n\n\n\nOur environment benefits too through these natural assets that include \n\nAssiniboine Forest\, Living Prairie Museum and Grant's Old Mill.
X-ALT-DESC;FMTTYPE=text/html:The Rotary Clubs of Winnipeg &ndash\; Assiniboine and Winnipeg &ndash\; Charleswood&nbsp\;&nbsp\;<br />\nsupport our beautiful community green spaces&nbsp\;that provide benefits to our physical and mental health.&nbsp\;&nbsp\;<br />\n<br />\nOur environment benefits too through these natural assets that include&nbsp\;<br />\nAssiniboine Forest\, Living Prairie Museum and Grant&rsquo\;s Old Mill.
LOCATION:Kingswood Golf and Country Club
UID:e.2532.967
SEQUENCE:3
DTSTAMP:20260420T125548Z
URL:https://www.assiniboiachamber.ca/events/details/the-rotary-3rd-annual-green-spaces-golf-tournament-967
END:VEVENT

END:VCALENDAR
