BEGIN:VCALENDAR
VERSION:2.0
PRODID:-//ChamberMaster//Event Calendar 2.0//EN
METHOD:PUBLISH
X-PUBLISHED-TTL:P3D
REFRESH-INTERVAL:P3D
CALSCALE:GREGORIAN
BEGIN:VEVENT
DTSTART:20250430T230000Z
DTEND:20250501T020000Z
X-MICROSOFT-CDO-ALLDAYEVENT:FALSE
SUMMARY:Support CFE – Join Their First-Ever Paint Night Fundraiser
DESCRIPTION:We're happy to share an exciting opportunity to support our community partners at Compassion for Everyone (CFE)   a growing non-profit that's making a meaningful impact across Winnipeg. On Wednesday\, April 30\, CFE is hosting their first-ever Paint Night Fundraiser at Boujee Restaurant & Bar (191 Main St.\, Winnipeg)\, and they'd love your support! ?? Tickets: $60 per person   includes all materials (portion of proceeds go directly to CFE's programs) ?? Painting: Serene Spring with artist Greg from Paint Party Manitoba ?? Registration: 6:00 p.m. ?? Painting: 6:30   8:30 p.m. ?? Networking: Until 9:00 p.m. ?? To register: email tickets@cfewinnipeg.com Plus\, attendees can enjoy Boujee's Wine & Steak Wednesday specials   a perfect pairing for a fun and meaningful night! Please help us spread the word\, and if you're able\, come join us in supporting this heartfelt cause. Learn more at www.cfewinnipeg.com
X-ALT-DESC;FMTTYPE=text/html:We&rsquo\;re happy to share an exciting opportunity to support our community partners at Compassion for Everyone (CFE) &ndash\; a growing non-profit that&rsquo\;s making a meaningful impact across Winnipeg. On Wednesday\, April 30\, CFE is hosting their first-ever Paint Night Fundraiser at Boujee Restaurant &amp\; Bar (191 Main St.\, Winnipeg)\, and they&rsquo\;d love your support! ?? Tickets: $60 per person &ndash\; includes all materials (portion of proceeds go directly to CFE&rsquo\;s programs) ?? Painting: Serene Spring with artist Greg from Paint Party Manitoba ?? Registration: 6:00 p.m. ?? Painting: 6:30 &ndash\; 8:30 p.m. ?? Networking: Until 9:00 p.m. ?? To register: email tickets@cfewinnipeg.com Plus\, attendees can enjoy Boujee&rsquo\;s Wine &amp\; Steak Wednesday specials &ndash\; a perfect pairing for a fun and meaningful night! Please help us spread the word\, and if you&rsquo\;re able\, come join us in supporting this heartfelt cause. Learn more at www.cfewinnipeg.com
LOCATION:Boujee Restaurant & Bar (191 Main St.\, Winnipeg)
UID:e.2532.718
SEQUENCE:3
DTSTAMP:20260420T220234Z
URL:https://www.assiniboiachamber.ca/events/details/support-cfe-join-their-first-ever-paint-night-fundraiser-718
END:VEVENT

END:VCALENDAR
