BEGIN:VCALENDAR
VERSION:2.0
PRODID:-//ChamberMaster//Event Calendar 2.0//EN
METHOD:PUBLISH
X-PUBLISHED-TTL:P3D
REFRESH-INTERVAL:P3D
CALSCALE:GREGORIAN
BEGIN:VEVENT
DTSTART:20241031T150000Z
DTEND:20241031T210000Z
X-MICROSOFT-CDO-ALLDAYEVENT:FALSE
SUMMARY:St. James Spooktacular Trick or Treat
DESCRIPTION:
X-ALT-DESC;FMTTYPE=text/html:
LOCATION:Portage Ave Between Moorgate St & Lyle St.
UID:e.2532.659
SEQUENCE:3
DTSTAMP:20260421T065218Z
URL:https://www.assiniboiachamber.ca/events/details/st-james-spooktacular-trick-or-treat-659
END:VEVENT

END:VCALENDAR
