BEGIN:VCALENDAR
VERSION:2.0
PRODID:-//ChamberMaster//Event Calendar 2.0//EN
METHOD:PUBLISH
X-PUBLISHED-TTL:P3D
REFRESH-INTERVAL:P3D
CALSCALE:GREGORIAN
BEGIN:VEVENT
DTSTART:20241029T180000Z
DTEND:20241029T183000Z
X-MICROSOFT-CDO-ALLDAYEVENT:FALSE
SUMMARY:Special Meeting of the ACC Membership: Bylaw Change Request
DESCRIPTION:A Special Meeting of the Membership of the Assiniboia Chamber of Commerce to amend its Bylaws as required by the Boards of Trade Act.\n\n\n\nMaterials for this meeting will be provided to all members in an email from the Assiniboia Chamber of Commerce.
X-ALT-DESC;FMTTYPE=text/html:A Special Meeting of the Membership of the Assiniboia Chamber of Commerce to amend its Bylaws as required by the Boards of Trade Act.<br />\n<br />\nMaterials for this meeting will be provided to all members in an email from the Assiniboia Chamber of Commerce.
LOCATION:via Zoom
UID:e.2532.658
SEQUENCE:3
DTSTAMP:20260421T065349Z
URL:https://www.assiniboiachamber.ca/events/details/special-meeting-of-the-acc-membership-bylaw-change-request-658
END:VEVENT

END:VCALENDAR
