BEGIN:VCALENDAR
VERSION:2.0
PRODID:-//ChamberMaster//Event Calendar 2.0//EN
METHOD:PUBLISH
X-PUBLISHED-TTL:P3D
REFRESH-INTERVAL:P3D
CALSCALE:GREGORIAN
BEGIN:VEVENT
DTSTART:20250119T160000Z
DTEND:20250119T210000Z
X-MICROSOFT-CDO-ALLDAYEVENT:FALSE
SUMMARY:Snowshoe Sunday
DESCRIPTION:Learn to snowshoe\, explore the prairie\, and have fun! Drop in on Sundays in January and February 10 AM - 3 PM for free 1-hour snowshoe rentals! Planned dates: Jan 5\, 12\, 19\, 26\; Feb 2\, 9\, 16\, 23 *please note that dates may change depending on snow conditions*
X-ALT-DESC;FMTTYPE=text/html:Learn to snowshoe\, explore the prairie\, and have fun! Drop in on Sundays in January and February 10 AM - 3 PM for free 1-hour snowshoe rentals! Planned dates: Jan 5\, 12\, 19\, 26\; Feb 2\, 9\, 16\, 23 *please note that dates may change depending on snow conditions*
LOCATION:Living Prairie Museum 2795 Ness Ave. Winnipeg
UID:e.2532.683
SEQUENCE:3
DTSTAMP:20260421T041034Z
URL:https://www.assiniboiachamber.ca/events/details/snowshoe-sunday-01-19-2025-683
END:VEVENT

END:VCALENDAR
