BEGIN:VCALENDAR
VERSION:2.0
PRODID:-//ChamberMaster//Event Calendar 2.0//EN
METHOD:PUBLISH
X-PUBLISHED-TTL:P3D
REFRESH-INTERVAL:P3D
CALSCALE:GREGORIAN
BEGIN:VEVENT
DTSTART;VALUE=DATE:20201207
DTEND;VALUE=DATE:20210101
TRANSP:TRANSPARENT
X-MICROSOFT-CDO-ALLDAYEVENT:TRUE
SUMMARY:Sargent Sundae Gift Certificates
DESCRIPTION:That's right folks! You can now fill those Christmas stockings with gift certificates from Sargent Sundae! They are sold in $5 denominations\, and there is a minimum order of $20.\n\n\n\nClick on REGISTER    (to the right) to order online\, or call (204) 774-4154 to place your order.\n\n\n\nAvailable for curbside pick-up at 2061 Portage Avenue or by mail.\n\n\n\nNOTE: We are using our Event Registration page\, so please ignore Add an Attendee or any Event Registration lingo. We are working on correcting this\, but wanted to make the gift certificates available to you now!
X-ALT-DESC;FMTTYPE=text/html:That&#39\;s right folks! You can now fill those Christmas stockings with gift certificates from Sargent Sundae! They are sold in $5 denominations\, and there is a minimum order of $20.<br />\n<br />\nClick on REGISTER &gt\;&gt\; (to the right) to order online\, or call (204) 774-4154 to place your order.<br />\n<br />\nAvailable for curbside pick-up at 2061 Portage Avenue or by mail.<br />\n<br />\n<strong>NOTE:</strong> <em>We are using our Event Registration page\, so please ignore Add an Attendee or any Event Registration lingo. We are working on correcting this\, but wanted to make the gift certificates available to you now!</em>
LOCATION:
UID:e.2532.223
SEQUENCE:3
DTSTAMP:20260423T202131Z
URL:https://www.assiniboiachamber.ca/events/details/sargent-sundae-gift-certificates-223
END:VEVENT

END:VCALENDAR
