BEGIN:VCALENDAR
VERSION:2.0
PRODID:-//ChamberMaster//Event Calendar 2.0//EN
METHOD:PUBLISH
X-PUBLISHED-TTL:P3D
REFRESH-INTERVAL:P3D
CALSCALE:GREGORIAN
BEGIN:VEVENT
DTSTART;VALUE=DATE:20240830
DTEND;VALUE=DATE:20240831
TRANSP:TRANSPARENT
X-MICROSOFT-CDO-ALLDAYEVENT:TRUE
SUMMARY:Royal City Soccer Club - Summer Day Camp Registration Deadline
DESCRIPTION:The Royal City Soccer Club\, a registered non-profit community organization\, is proud to host their 32nd annual grassroots summer day camps.  The program is designed to promote personal development\, team building and of course\, FUN!  Uniquely designed to offer a more soccer focused morning with a leisure swim with other organized activities in the afternoon.  The program operates during all weeks in July and August for children aged 5 to 13.  For more information or to register\, visit royalsoccer.com or call 1-800-427-0536.
X-ALT-DESC;FMTTYPE=text/html:The Royal City Soccer Club\, a registered non-profit community organization\, is proud to host their 32nd annual grassroots summer day camps.&nbsp\; The program is designed to promote personal development\, team building and of course\, FUN!&nbsp\; Uniquely designed to offer a more soccer focused morning with a leisure swim with other organized activities in the afternoon.&nbsp\; The program operates during all weeks in July and August for children aged 5 to 13.&nbsp\; For more information or to register\, visit royalsoccer.com or call 1-800-427-0536.
LOCATION:Civic Park - 901 Kimberly Ave.\, R2K 4B9 Cindy Klassen Recreation Complex Sargent Park - 999 Sargent Ave\, R3E 3K6 Pembina Cres Tot Lane - 1555 Pembina Hwy\, R3T 2E3
UID:e.2532.490
SEQUENCE:3
DTSTAMP:20260421T115045Z
URL:https://www.assiniboiachamber.ca/events/details/royal-city-soccer-club-summer-day-camp-registration-deadline-490
END:VEVENT

END:VCALENDAR
