BEGIN:VCALENDAR
VERSION:2.0
PRODID:-//ChamberMaster//Event Calendar 2.0//EN
METHOD:PUBLISH
X-PUBLISHED-TTL:P3D
REFRESH-INTERVAL:P3D
CALSCALE:GREGORIAN
BEGIN:VEVENT
DTSTART:20260225T144500Z
DTEND:20260225T160000Z
X-MICROSOFT-CDO-ALLDAYEVENT:FALSE
SUMMARY:Provincial Pre-Budget Consultation with Finance Minister Hon. Adrien Sala
DESCRIPTION:To make sure all Manitobans get the services they need while being responsible for our province's finances\, the provincial government must carefully consider budget priorities.\n\n\n\nAs part of the Manitoba Government's engagement for Budget 2026\, we have organized a town hall for our members to meet with Minister Adrien Sala and ask questions about the upcoming budget. \n\n\n\nIf you have a specific question or topic about the budget that you'd like the Minister to address\, please let us know so we can do our best to ensure it's covered during the discussion.\n\n\n\nThis event is only open to members of the Assiniboia Chamber of Commerce.\n\n\n\nFor members of the public\, we encourage you to attend one of many telephone or in-person town halls being hosted by the Minister: https://engagemb.ca/budget-2026
X-ALT-DESC;FMTTYPE=text/html:<div color:="" font-feature-settings:="" font-kerning:="" font-optical-sizing:="" font-variation-settings:="" helvetica="" margin:="" padding:="" segoe="" style="border: 0px\; font-variant-numeric: inherit\; font-variant-east-asian: inherit\; font-variant-alternates: inherit\; font-variant-position: inherit\; font-stretch: inherit\; font-size: 15px\; line-height: inherit\; font-family: " ui="" vertical-align:="" web="" west="">To make sure all Manitobans get the services they need while being responsible for our province&rsquo\;s finances\, the provincial government must carefully consider budget priorities.<br />\n<br />\nAs part of the Manitoba Government&rsquo\;s engagement for Budget 2026\, we have organized a town hall&nbsp\;for our members to meet with Minister Adrien Sala and ask questions about the upcoming budget.&nbsp\;<br />\n<br />\nIf you have a specific question or topic about the budget that you&rsquo\;d like the Minister to address\, please let us know so we can do our best to ensure it&rsquo\;s covered during the discussion.<br />\n<br />\n<span style="font-size: 15px\;"><em><strong>This event is only open to members of the Assiniboia Chamber of Commerce.</strong></em><br />\n<br />\nFor members of the public\, we encourage you to attend one of many telephone or in-person town halls being hosted by the Minister:&nbsp\;</span><strong><a href="https://engagemb.ca/budget-2026">https://engagemb.ca/budget-2026</a></strong></div>\n
LOCATION:Assiniboia Chamber Office
UID:e.2532.1024
SEQUENCE:3
DTSTAMP:20260420T061336Z
URL:https://www.assiniboiachamber.ca/events/details/provincial-pre-budget-consultation-with-finance-minister-hon-adrien-sala-1024
END:VEVENT

END:VCALENDAR
