BEGIN:VCALENDAR
VERSION:2.0
PRODID:-//ChamberMaster//Event Calendar 2.0//EN
METHOD:PUBLISH
X-PUBLISHED-TTL:P3D
REFRESH-INTERVAL:P3D
CALSCALE:GREGORIAN
BEGIN:VEVENT
DTSTART:20251022T233000Z
DTEND:20251023T010000Z
X-MICROSOFT-CDO-ALLDAYEVENT:FALSE
SUMMARY:Pages and Perspectives - A Chamber Book Club
DESCRIPTION:Our first ever book club! Pages & Perspectives is a member-only book club that gathers every three (3) months to read and discuss books on business related topics. The club will offer a structured yet flexible way to deepen knowledge\, exchange ideas and support professional growth. Having our group gather in person\, we will focus on specific themes like leadership\, entrepreneurship\, or explore a wide array of business literature. Light refreshments will be served\, making it a relaxed and welcoming atmosphere for all attendees.\n\n\n\nWe will start it off with Embark- a thought-provoking read we are sure will spark great conversations and connections with our members. In addition we are excited that the author\, Kyle Romaniuk\, an entrepreneur and creative visionary\, will be joining the discussion to share insights about his book and engage with our community of readers.\n\n\n\nBook Title: Embark\n\nAuthor: Kyle Romaniuk\n\n \nAre you an entrepreneur stuck in the day-to-day grind\, unable to focus on growth?\n\nDiscover the Refraction Pathway a revolutionary new system to transform your organization and liberate you from operational quicksand.\n\nEMBARK provides a framework for leaders to:\n\n  Boost productivity and performance\n\n  Attract and retain high performers\n\n  Make innovation and improvement sustainable\n\n  Reclaim your time for strategic leadership\n\nWhether you're a seasoned owner or emerging entrepreneur\, EMBARK empowers you to create an environment where your team thrives and your business scales with or without you.
X-ALT-DESC;FMTTYPE=text/html:<span style="font-family:arial\;">Our first ever book club! Pages &amp\; Perspectives is a member-only book club that gathers every three (3) months to read and discuss books on business related topics. The club will offer a structured yet flexible way to deepen knowledge\, exchange ideas and support professional growth. Having our group gather in person\, we will focus on specific themes like leadership\, entrepreneurship\, or explore a wide array of business literature.&nbsp\;Light refreshments will be served\, making it a relaxed and welcoming atmosphere for all attendees.<br />\n<br />\nWe will start it off with <em>Embark</em>- a thought-provoking read we are sure will spark great conversations and connections with our members. In addition we are excited that the author\, Kyle Romaniuk\, an entrepreneur and creative visionary\, will be joining the discussion to share insights about his book and engage with our community of readers.</span><br />\n<br />\n<span style="font-family:arial\;"><strong>Book Title:</strong> Embark<br />\n<strong>Author:</strong> Kyle Romaniuk</span><br />\n&nbsp\;\n<p amazon="" font-size:="" style="box-sizing: border-box\; padding: 0px\; margin: 0px 0px 14px\; color: rgb(15\, 17\, 17)\; font-family: "><span style="font-family:arial\;"><span class="a-text-bold" style="box-sizing: border-box\; font-weight: 700 !important\;">Are you an entrepreneur stuck in the day-to-day grind\, unable to focus on growth?</span></span></p>\n\n<p amazon="" font-size:="" style="box-sizing: border-box\; padding: 0px\; margin: -4px 0px 14px\; color: rgb(15\, 17\, 17)\; font-family: "><span style="font-family:arial\;"><span style="box-sizing: border-box\;">Discover the Refraction Pathway&mdash\;a revolutionary new system to transform your organization and liberate you from operational quicksand.</span></span></p>\n\n<p amazon="" font-size:="" style="box-sizing: border-box\; padding: 0px\; margin: -4px 0px 14px\; color: rgb(15\, 17\, 17)\; font-family: "><span style="font-family:arial\;"><span class="a-text-bold" style="box-sizing: border-box\; font-weight: 700 !important\;">EMBARK provides a framework for leaders to:</span></span></p>\n\n<p amazon="" font-size:="" style="box-sizing: border-box\; padding: 0px\; margin: -4px 0px 14px\; color: rgb(15\, 17\, 17)\; font-family: "><span style="font-family:arial\;"><span style="box-sizing: border-box\;">&bull\; Boost productivity and performance</span></span></p>\n\n<p amazon="" font-size:="" style="box-sizing: border-box\; padding: 0px\; margin: -4px 0px 14px\; color: rgb(15\, 17\, 17)\; font-family: "><span style="font-family:arial\;"><span style="box-sizing: border-box\;">&bull\; Attract and retain high performers</span></span></p>\n\n<p amazon="" font-size:="" style="box-sizing: border-box\; padding: 0px\; margin: -4px 0px 14px\; color: rgb(15\, 17\, 17)\; font-family: "><span style="font-family:arial\;"><span style="box-sizing: border-box\;">&bull\; Make innovation and improvement sustainable</span></span></p>\n\n<p amazon="" font-size:="" style="box-sizing: border-box\; padding: 0px\; margin: -4px 0px 14px\; color: rgb(15\, 17\, 17)\; font-family: "><span style="font-family:arial\;"><span style="box-sizing: border-box\;">&bull\; Reclaim your time for strategic leadership</span></span></p>\n\n<p amazon="" font-size:="" style="box-sizing: border-box\; padding: 0px\; margin: -4px 0px 0px\; color: rgb(15\, 17\, 17)\; font-family: "><span style="font-family:arial\;"><span style="box-sizing: border-box\;">Whether you&#39\;re a seasoned owner or emerging entrepreneur\,&nbsp\;</span><span class="a-text-bold" style="box-sizing: border-box\; font-weight: 700 !important\;">EMBARK</span><span style="box-sizing: border-box\;">&nbsp\;empowers you to create an environment where your team thrives and your business scales&mdash\;with or without you.</span></span></p>\n
LOCATION:
UID:e.2532.965
SEQUENCE:3
DTSTAMP:20260420T102111Z
URL:https://www.assiniboiachamber.ca/events/details/pages-and-perspectives-a-chamber-book-club-965
END:VEVENT

END:VCALENDAR
