BEGIN:VCALENDAR
VERSION:2.0
PRODID:-//ChamberMaster//Event Calendar 2.0//EN
METHOD:PUBLISH
X-PUBLISHED-TTL:P3D
REFRESH-INTERVAL:P3D
CALSCALE:GREGORIAN
BEGIN:VEVENT
DTSTART:20240729T021500Z
DTEND:20240728T231500Z
X-MICROSOFT-CDO-ALLDAYEVENT:FALSE
SUMMARY:Nuclear Family (Fringe Festival)
DESCRIPTION:Justin and Bea are just your average 1960s Canadian couple. They have two kids\, a house in the suburbs and a fully-stocked fallout shelter in the basement. But will their detailed survival plans prepare them for challenges more daunting than the atomic bomb - personal secrets\, troublesome neighbours and teenage angst? A Cold War dark comedy from the creator of the Harry S. Rintoul Award-nominated Murmurs of Earth and Countdown to Babylon. Performance time: 1 hour
X-ALT-DESC;FMTTYPE=text/html:Justin and Bea are just your average 1960s Canadian couple. They have two kids\, a house in the suburbs and a fully-stocked fallout shelter in the basement. But will their detailed survival plans prepare them for challenges more daunting than the atomic bomb - personal secrets\, troublesome neighbours and teenage angst? A Cold War dark comedy from the creator of the Harry S. Rintoul Award-nominated Murmurs of Earth and Countdown to Babylon. Performance time: 1 hour
LOCATION:Th tre Cercle Moli re (300 Provencher Blvd)
UID:e.2532.527
SEQUENCE:3
DTSTAMP:20260421T143102Z
URL:https://www.assiniboiachamber.ca/events/details/nuclear-family-fringe-festival-527
END:VEVENT

END:VCALENDAR
