BEGIN:VCALENDAR
VERSION:2.0
PRODID:-//ChamberMaster//Event Calendar 2.0//EN
METHOD:PUBLISH
X-PUBLISHED-TTL:P3D
REFRESH-INTERVAL:P3D
CALSCALE:GREGORIAN
BEGIN:VEVENT
DTSTART:20240914T223000Z
DTEND:20240915T030000Z
X-MICROSOFT-CDO-ALLDAYEVENT:FALSE
SUMMARY:Music Bingo
DESCRIPTION:This is a 100% proceeds go to the Lady Spartans AAA U14 Hockey event. The team is the newest to join the Female Super League.
X-ALT-DESC;FMTTYPE=text/html:This is a 100% proceeds go to the Lady Spartans AAA U14 Hockey event. The team is the newest to join the Female Super League.
LOCATION:4th Line Pub and Grill 3025 Ness Avenue Winnipeg\, Manitoba
UID:e.2532.613
SEQUENCE:3
DTSTAMP:20260421T083540Z
URL:https://www.assiniboiachamber.ca/events/details/music-bingo-613
END:VEVENT

END:VCALENDAR
