BEGIN:VCALENDAR
VERSION:2.0
PRODID:-//ChamberMaster//Event Calendar 2.0//EN
METHOD:PUBLISH
X-PUBLISHED-TTL:P3D
REFRESH-INTERVAL:P3D
CALSCALE:GREGORIAN
BEGIN:VEVENT
DTSTART:20250726T150000Z
DTEND:20250727T200000Z
X-MICROSOFT-CDO-ALLDAYEVENT:FALSE
SUMMARY:Monarch Butterfly Festival
DESCRIPTION:The Monarch Butterfly Festival celebrates our butterfly friends with activities and fun. The event is great for the whole family\, and admission is free. Enjoy live butterfly displays\, and our milkweed plant giveaway. Experience the prairie by taking a guided hike\, and take part in hands-on crafts and activities. Prairie Flora plant sale will be back to help you start your own butterfly garden. There will also be displays and activities from several partners\, so you can learn more about butterflies and prairie in Manitoba.
X-ALT-DESC;FMTTYPE=text/html:The Monarch Butterfly Festival celebrates our butterfly friends with activities and fun. The event is great for the whole family\, and admission is free. Enjoy live butterfly displays\, and our milkweed plant giveaway. Experience the prairie by taking a guided hike\, and take part in hands-on crafts and activities. Prairie Flora plant sale will be back to help you start your own butterfly garden. There will also be displays and activities from several partners\, so you can learn more about butterflies and prairie in Manitoba.
LOCATION:Living Prairie Museum
UID:e.2532.750
SEQUENCE:3
DTSTAMP:20260420T142508Z
URL:https://www.assiniboiachamber.ca/events/details/monarch-butterfly-festival-750
END:VEVENT

END:VCALENDAR
