BEGIN:VCALENDAR
VERSION:2.0
PRODID:-//ChamberMaster//Event Calendar 2.0//EN
METHOD:PUBLISH
X-PUBLISHED-TTL:P3D
REFRESH-INTERVAL:P3D
CALSCALE:GREGORIAN
BEGIN:VEVENT
DTSTART:20251212T190000Z
DTEND:20251212T220000Z
X-MICROSOFT-CDO-ALLDAYEVENT:FALSE
SUMMARY:Mingle Jingle - Chamber Holiday Event
DESCRIPTION:Enjoy festive treats\, warm conversation and plenty of cheer as we gather in the spirit of the season.\n\nThis come-and-go event is the perfect chance to connect with fellow Chamber members in a relaxed\, cheerful setting. Wear a holiday sweater (ugly or not\, it's your choice!) - and join us for some holiday fun.\n\nWe'll toast to all the good the holidays bring while celebrating everything we've accomplished together in 2025!\n\nThis year\, we are proud to accept donations on behalf of the Smoke and Scutchings families for their annual Blessing Bags project. Since 2014\, these bags have been lovingly assembled and distributed to individuals in need throughout the downtown area. \n\nTheir goal for this year is to prepare and distribute 180 Blessing Bags\, each filled with essential items to offer comfort and care. Those attending are welcome to bring an item to support the cause.\n\nRequested Donation Items:\n\n- Toques\n\n- Gloves\n\n- Socks\n\n- Toothbrushes\n\n- Toothpaste\n\n- Deodorant\n\n- Hairbrushes\n\n- Refillable water bottles\n\n- Bottled water\n\n- Soaps and body wash\n\n- Feminine hygiene products\n\n- Individually wrapped snacks
X-ALT-DESC;FMTTYPE=text/html:<p>Enjoy festive treats\, warm conversation&nbsp\;and plenty of cheer as we gather in the spirit of the season.</p>\n\n<p>This come-and-go event is the perfect chance to connect with fellow Chamber members in a relaxed\, cheerful setting.&nbsp\;Wear a holiday sweater (ugly or not\, it&#39\;s your choice!) -&nbsp\;and join us for some holiday fun.</p>\n\n<p>We&rsquo\;ll toast to all the good the holidays bring while celebrating everything we&rsquo\;ve accomplished together in 2025!</p>\n\n<p>This year\, we are proud to accept donations on behalf of the Smoke and Scutchings families for their annual Blessing Bags project. Since 2014\, these bags have been lovingly assembled and distributed to individuals in need throughout the downtown area.&nbsp\;</p>\n\n<p>Their goal for this year is to prepare and distribute 180 Blessing Bags\, each filled with essential items to offer comfort and care.&nbsp\;Those attending are welcome to bring an item to support the cause.</p>\n\n<p>Requested Donation Items:<br />\n- Toques<br />\n- Gloves<br />\n- Socks<br />\n- Toothbrushes<br />\n- Toothpaste<br />\n- Deodorant<br />\n- Hairbrushes<br />\n- Refillable water bottles<br />\n- Bottled water<br />\n- Soaps and body wash<br />\n- Feminine hygiene products<br />\n- Individually wrapped snacks<br />\n&nbsp\;</p>\n
LOCATION:Assiniboia Chamber Office
UID:e.2532.979
SEQUENCE:3
DTSTAMP:20260420T072725Z
URL:https://www.assiniboiachamber.ca/events/details/mingle-jingle-chamber-holiday-event-979
END:VEVENT

END:VCALENDAR
