BEGIN:VCALENDAR
VERSION:2.0
PRODID:-//ChamberMaster//Event Calendar 2.0//EN
METHOD:PUBLISH
X-PUBLISHED-TTL:P3D
REFRESH-INTERVAL:P3D
CALSCALE:GREGORIAN
BEGIN:VEVENT
DTSTART:20241213T190000Z
DTEND:20241213T220000Z
X-MICROSOFT-CDO-ALLDAYEVENT:FALSE
SUMMARY:Mingle Jingle - 2024 Chamber Holiday Event
DESCRIPTION:Join the festivities as we toast all that is good with the holiday season while celebrating the year 2024!\n\nEnjoy festive treats\, activities\, networking and a holiday (ugly) sweater contest. \n\n\n\nGiving Back This Holiday Season\n\nWe will have a collection box for anyone wishing to contribute to the Blessing Bags program run by the Smoke and Scutchings Family. Blessing Bags are packed in a reusable bag (tote/backpack/drawstring bag) delivered downtown to those in need December 25th consisting of:\n\n-Toque\n\n-Gloves\n\n-Socks\n\n-Toothbrush\n\n-Toothpaste\n\n-Deodorant\n\n-Soap/Body Wash\n\n-Hair Brush\n\n-Refillable Water Bottle\n\n-Bottle of Water Feminine Hygiene Products\n\n-Individually Wrapped Snacks\n\n \n\nAdult winter jackets in good condition (zipper works\, no holes\, etc) also accepted for delivery
X-ALT-DESC;FMTTYPE=text/html:Join the festivities as we toast all that is good with the holiday season while celebrating the year 2024!<br />\nEnjoy festive treats\, activities\, networking and a holiday (ugly) sweater contest.&nbsp\;<br />\n<br />\n<strong>Giving Back This Holiday Season</strong><br />\nWe will have a collection box for anyone wishing to contribute to the Blessing Bags program run by the Smoke and Scutchings Family.&nbsp\;Blessing Bags are packed in a reusable bag (tote/backpack/drawstring bag) delivered downtown to those in need December 25th consisting of:<br />\n-Toque<br />\n-Gloves<br />\n-Socks<br />\n-Toothbrush<br />\n-Toothpaste<br />\n-Deodorant<br />\n-Soap/Body Wash<br />\n-Hair Brush<br />\n-Refillable Water Bottle<br />\n-Bottle of Water Feminine Hygiene Products<br />\n-Individually Wrapped Snacks<br />\n&nbsp\;<br />\nAdult winter jackets in good condition (zipper works\, no holes\, etc) also accepted for delivery
LOCATION:Assiniboia Chamber Office 2061 Portage Ave\, Winnipeg
UID:e.2532.672
SEQUENCE:3
DTSTAMP:20260421T041017Z
URL:https://www.assiniboiachamber.ca/events/details/mingle-jingle-2024-chamber-holiday-event-672
END:VEVENT

END:VCALENDAR
