BEGIN:VCALENDAR
VERSION:2.0
PRODID:-//ChamberMaster//Event Calendar 2.0//EN
METHOD:PUBLISH
X-PUBLISHED-TTL:P3D
REFRESH-INTERVAL:P3D
CALSCALE:GREGORIAN
BEGIN:VEVENT
DTSTART:20211209T203000Z
DTEND:20211209T230000Z
X-MICROSOFT-CDO-ALLDAYEVENT:FALSE
SUMMARY:Mingle Jingle 2021
DESCRIPTION:Join the festivities as we toast all that is good with the holiday season! This year's Mingle Jingle will include festive appetizers and drink and a special treat that no one else can experience yet ... a tour of the Royal Aviation Museum of Western Canada! That's right - you will be getting a sneak peek of this prestigious landmark lying in our community that is officially opening to the public in March 2022!\n\n\n\nIf you have any questions\, please call our office at (204) 774-4154. Masks will be required\, as well as proof of vaccination.
X-ALT-DESC;FMTTYPE=text/html:Join the festivities as we toast all that is good with the holiday season! This year&#39\;s Mingle Jingle will include festive appetizers and drink and a special treat that no one else can experience yet ... a tour of the Royal Aviation Museum of Western Canada! That&#39\;s right - you will be getting a sneak peek of this prestigious landmark lying in our community that is officially opening to the public in March 2022!<br />\n<br />\nIf you have any questions\, please call our office at (204) 774-4154. Masks will be required\, as well as proof of vaccination.
LOCATION:Royal Aviation Museum of Western Canada
UID:e.2532.294
SEQUENCE:3
DTSTAMP:20260423T024600Z
URL:https://www.assiniboiachamber.ca/events/details/mingle-jingle-2021-294
END:VEVENT

END:VCALENDAR
