BEGIN:VCALENDAR
VERSION:2.0
PRODID:-//ChamberMaster//Event Calendar 2.0//EN
METHOD:PUBLISH
X-PUBLISHED-TTL:P3D
REFRESH-INTERVAL:P3D
CALSCALE:GREGORIAN
BEGIN:VEVENT
DTSTART:20260416T140000Z
DTEND:20260416T203000Z
X-MICROSOFT-CDO-ALLDAYEVENT:FALSE
SUMMARY:Mental Health in the Workplace - The Working Mind
DESCRIPTION:Mental Health in the Workplace is practical training designed to help employees at every level make a meaningful difference in their work environment. Participants will learn how to:\n\n  create a psychologically healthy workplace\n\n  respond to challenges constructively\n\n  manage stress in healthy and sustainable ways\n\n\n\nStrengthen Your Impact\n\n	Recognize signs of mental health challenges.\n	Create a safe space for open conversations.\n	Develop a shared language about mental health at work. \n	Build resilience with stress-management tools\n	Support your team with confidence. \n\nThis training is brought to you by Advantage HR+ Consulting.
X-ALT-DESC;FMTTYPE=text/html:Mental Health in the Workplace is practical training designed to help employees at every level make a meaningful difference in their work environment. Participants will learn how to:<br />\n&bull\; create a psychologically healthy workplace<br />\n&bull\; respond to challenges constructively<br />\n&bull\; manage stress in healthy and sustainable ways<br />\n<br />\nStrengthen Your Impact\n<ul>\n	<li>Recognize signs of mental health challenges.</li>\n	<li>Create a safe space for open conversations.</li>\n	<li>Develop a shared language about mental health at work.&nbsp\;</li>\n	<li>Build resilience with stress-management tools</li>\n	<li>Support your team with confidence.&nbsp\;</li>\n</ul>\nThis training is brought to you by Advantage HR+ Consulting.&nbsp\;
LOCATION:
UID:e.2532.1026
SEQUENCE:3
DTSTAMP:20260420T014251Z
URL:https://www.assiniboiachamber.ca/events/details/mental-health-in-the-workplace-1026
END:VEVENT

END:VCALENDAR
