BEGIN:VCALENDAR
VERSION:2.0
PRODID:-//ChamberMaster//Event Calendar 2.0//EN
METHOD:PUBLISH
X-PUBLISHED-TTL:P3D
REFRESH-INTERVAL:P3D
CALSCALE:GREGORIAN
BEGIN:VEVENT
DTSTART:20210812T213000Z
DTEND:20210813T003000Z
X-MICROSOFT-CDO-ALLDAYEVENT:FALSE
SUMMARY:Member Mixer: Because We Can...
DESCRIPTION:Join fellow Assiniboia Chamber members for this in-person networking event ... because we can! We aim to connect you with the business community by creating opportunities for you to network and share great conversations. \n\n\n\nEnjoy a pint on the new expanded patio at Torque Brewing while you introduce yourself to Assiniboia Chamber staff\, board\, and members. Champs Food Truck will also be onsite.\n\n\n\n*Public Health Orders will be adhered to\, and will be shared on the day of the event through an email to all participants.
X-ALT-DESC;FMTTYPE=text/html:<span style="font-size: 14px\;">Join fellow Assiniboia Chamber members for this in-person networking event ... because we can! We aim to connect you with the business community by creating opportunities for you to network and share great conversations.&nbsp\;<br />\n<br />\nEnjoy a pint on the new expanded patio at <a href="https://torquebrewing.beer/">Torque Brewing</a> while you introduce yourself to Assiniboia Chamber staff\, board\, and members. <a href="https://www.facebook.com/champsfoodtruck/">Champs Food Truck</a>&nbsp\;will also be onsite.<br />\n<br />\n*Public Health Orders will be adhered to\, and will be shared on the day of the event through an email to all participants.</span>
LOCATION:Torque Brewing Patio
UID:e.2532.273
SEQUENCE:3
DTSTAMP:20260423T081422Z
URL:https://www.assiniboiachamber.ca/events/details/member-mixer-because-we-can-273
END:VEVENT

END:VCALENDAR
