BEGIN:VCALENDAR
VERSION:2.0
PRODID:-//ChamberMaster//Event Calendar 2.0//EN
METHOD:PUBLISH
X-PUBLISHED-TTL:P3D
REFRESH-INTERVAL:P3D
CALSCALE:GREGORIAN
BEGIN:VEVENT
DTSTART:20210713T160000Z
DTEND:20210713T220000Z
X-MICROSOFT-CDO-ALLDAYEVENT:FALSE
SUMMARY:Member Drive Golf Event
DESCRIPTION:We should mention ... this event is FREE* for our guests to join! Each member is being asked to provide a testimonial as to why they joined the Chamber\, or what value they receive from Chamber membership. Members and sponsors are also strongly encouraged to invite a prospective member to the event.\n\n\n\nCLICK HERE FOR MORE INFORMATION
X-ALT-DESC;FMTTYPE=text/html:<font color="#555555" face="arial\, sans-serif"><span style="font-size: 16px\; letter-spacing: 0.2px\;">We should mention ... <strong>this event is FREE*&nbsp\;</strong>for our guests to join! Each member is being asked to provide a testimonial as to why they joined the Chamber\, or what value they receive from Chamber membership. Members and sponsors are also strongly encouraged to invite a prospective member to the event.</span></font><br />\n<br />\n<font color="#555555" face="arial\, sans-serif"><span style="font-size: 16px\; letter-spacing: 0.2px\;"><a href="https://www.assiniboiachamber.ca/membership-drive-golf-event">CLICK HERE FOR MORE INFORMATION</a></span></font><br />\n<br />\n&nbsp\;
LOCATION:Bel Acres Golf & Country Club
UID:e.2532.271
SEQUENCE:3
DTSTAMP:20260423T095641Z
URL:https://www.assiniboiachamber.ca/events/details/member-drive-golf-event-271
END:VEVENT

END:VCALENDAR
