BEGIN:VCALENDAR
VERSION:2.0
PRODID:-//ChamberMaster//Event Calendar 2.0//EN
METHOD:PUBLISH
X-PUBLISHED-TTL:P3D
REFRESH-INTERVAL:P3D
CALSCALE:GREGORIAN
BEGIN:VEVENT
DTSTART:20201211T233000Z
DTEND:20201212T020000Z
X-MICROSOFT-CDO-ALLDAYEVENT:FALSE
SUMMARY:LIFT Business Ethics Certification Program
DESCRIPTION:The LIFT Business Ethics Certification Program is a free short course module for students and the workforce. It is a 2.5-hour interactive workshop that aims to lift participants up to a new level of personal growth through ethical decision-making. LIFT is now available online and is delivered twice a month. The program concludes with each participant receiving a LIFT Certificate as an additional credential to their resume.
X-ALT-DESC;FMTTYPE=text/html:The LIFT Business Ethics Certification Program is a free short course module for students and the workforce. It is a 2.5-hour interactive workshop that aims to lift participants up to a new level of personal growth through ethical decision-making. LIFT is now available online and is delivered twice a month. The program concludes with each participant receiving a LIFT Certificate as an additional credential to their resume.
LOCATION:Online Webinar
UID:e.2532.218
SEQUENCE:3
DTSTAMP:20260423T202012Z
URL:https://www.assiniboiachamber.ca/events/details/lift-business-ethics-certification-program-12-11-2020-218
END:VEVENT

END:VCALENDAR
