BEGIN:VCALENDAR
VERSION:2.0
PRODID:-//ChamberMaster//Event Calendar 2.0//EN
METHOD:PUBLISH
X-PUBLISHED-TTL:P3D
REFRESH-INTERVAL:P3D
CALSCALE:GREGORIAN
BEGIN:VEVENT
DTSTART:20210219T233000Z
DTEND:20210220T020000Z
X-MICROSOFT-CDO-ALLDAYEVENT:FALSE
SUMMARY:LIFT Business Ethics Certificate Program
DESCRIPTION:The LIFT Business Ethics Certificate Programs are free ethics educational programs set in place to accelerate participants in middle schools\, high schools\, post-secondary institutions\, youth organizations\, non-profit organizations\, new-comers\, job seekers\, and current workforce\, in Manitoba and Northwest Ontario to think ethically in daily situations and rare circumstances alike. LIFT is a 2.5-hour interactive webinar that consists of tools to make it easier for an individual employee regardless of position or level to be confident in your decision and meet standards for effective and ethical decision-making within your organization. A LIFT Certificate is presented after completing the program as an additional credential to your resume.
X-ALT-DESC;FMTTYPE=text/html:The LIFT Business Ethics Certificate Programs are free ethics educational programs set in place to accelerate participants in middle schools\, high schools\, post-secondary institutions\, youth organizations\, non-profit organizations\, new-comers\, job seekers\, and current workforce\, in Manitoba and Northwest Ontario to think ethically in daily situations and rare circumstances alike. LIFT is a 2.5-hour interactive webinar that consists of tools to make it easier for an individual employee regardless of position or level to be confident in your decision and meet standards for effective and ethical decision-making within your organization. A LIFT Certificate is presented after completing the program as an additional credential to your resume.
LOCATION:Online Program Hosted by Better Business Bureau #assiniboiachambermember
UID:e.2532.240
SEQUENCE:3
DTSTAMP:20260423T185157Z
URL:https://www.assiniboiachamber.ca/events/details/lift-business-ethics-certificate-program-02-19-2021-240
END:VEVENT

END:VCALENDAR
