BEGIN:VCALENDAR
VERSION:2.0
PRODID:-//ChamberMaster//Event Calendar 2.0//EN
METHOD:PUBLISH
X-PUBLISHED-TTL:P3D
REFRESH-INTERVAL:P3D
CALSCALE:GREGORIAN
BEGIN:VEVENT
DTSTART:20241128T160000Z
DTEND:20241128T180000Z
X-MICROSOFT-CDO-ALLDAYEVENT:FALSE
SUMMARY:Leadership Essentials Certificate Program
DESCRIPTION:Whether you are an aspiring\, new\, or experienced manager\, it's important to always look for ways to develop your leadership skills.\n\nThis program teaches you how to create happier\, healthier\, more motivated teams where everyone feels supported. In just eight two-hour sessions\, you will learn the skills you need to effectively lead your team and your organization toward achieving its mission.\n\nLearn from Someone Who's Been Where You Are. \n\nOne of our experienced facilitators will teach you core leadership competencies and challenge you to expand on what you learn through group discussions and interactive activities.\n\nOnce you've completed the program\, you can also schedule up to three coaching sessions with the facilitator.* This is an opportunity to gain valuable insights on how to apply what you've learned to your workplace. The facilitator can also help you map out your career or figure out the next steps in your leadership development.\n\n*These sessions must be used within three months of completing the program.\n\n\n\nRegister soon! Spots are limited.
X-ALT-DESC;FMTTYPE=text/html:<p><span style="font-size:12px\;"><span style="font-family:arial\;"><strong>Whether you are an aspiring\, new\, or experienced manager\, it&rsquo\;s important to always look for ways to develop your leadership skills.</strong></span></span></p>\n\n<p><span style="font-size:12px">This program teaches you how to create happier\, healthier\, more motivated teams where everyone feels supported. In just eight two-hour sessions\, you will learn the skills you need to effectively lead your team and your organization toward achieving its mission.</span></p>\n\n<p><span style="font-size:12px"><strong>Learn from Someone Who&rsquo\;s Been Where You Are.&nbsp\;</strong></span></p>\n\n<p><span style="font-size:12px">One of our experienced facilitators will teach you core leadership competencies and challenge you to expand on what you learn through group discussions and interactive activities.</span></p>\n\n<p><span style="font-size:12px">Once you&#39\;ve completed the program\, you can also schedule up to three coaching sessions with the facilitator.* This is an opportunity to gain valuable insights on how to apply what you&rsquo\;ve learned to your workplace. The facilitator can also help you map out your career or figure out the next steps in your leadership development.</span></p>\n\n<p><span style="font-size:12px"><em>*These sessions must be used within three months of completing the program.</em><br />\n<br />\nRegister soon! Spots are limited.</span><br />\n&nbsp\;</p>\n
LOCATION:Virtual via Zoom.
UID:e.2532.606
SEQUENCE:3
DTSTAMP:20260421T053745Z
URL:https://www.assiniboiachamber.ca/events/details/leadership-essentials-certificate-program-11-28-2024-606
END:VEVENT

END:VCALENDAR
