BEGIN:VCALENDAR
VERSION:2.0
PRODID:-//ChamberMaster//Event Calendar 2.0//EN
METHOD:PUBLISH
X-PUBLISHED-TTL:P3D
REFRESH-INTERVAL:P3D
CALSCALE:GREGORIAN
BEGIN:VEVENT
DTSTART:20210203T180000Z
DTEND:20210203T190000Z
X-MICROSOFT-CDO-ALLDAYEVENT:FALSE
SUMMARY:InTENsive Virtual Engagement Program (10 weeks)
DESCRIPTION:* This is a 10-week program *\n\nStarts: Wednesday\, February 3\, 2021\n\nEnds: Wednesday\, April 7\, 2021\n\nWeekly sessions are one-hour in length from 12:00 pm to 1:00 pm\n\n\n\nDid You Know?\n\nIt is estimated that the average person will spend 100 minutes every day watching online videos in 2021. This is a 19% increase compared to daily viewing minutes in 2019\, which stood at 84. It is important to consider video marketing for your business to reach your target markets.\n\n\n\nYou know that you should be doing videos\, but maybe don't have the confidence or knowledge to start. This 10-week program is designed especially for you!\n\n\n\nProgram Details:\n\n  10 Weeks: Starts February 3 and runs until April 7\n\n  1-Hour Zooms every Wednesday: 12:00 noon to 1:00 pm\n\n  Private Facebook Group\n\n\n\nYou will learn: (will include but not limited to)\n\n  How to use a green screen and virtual backgrounds \n\n  Working with audio\, (mics and pre-recorded music) \n\n  Zoom basics \n\n  Lighting \n\n  Playing to the camera \n\n  How to make your slides more engaging \n\n  Engaging with your voice \n\n  Virtual selling tips\n\n\n\nInTENsive Virtual Engagement Program\n\nWEEK 1 | Intro and Overview\n\nWEEK 2 | Background\n\nWEEK 3 | Playing to the Camera\n\nWEEK 4 | Physicality + Energy\n\nWEEK 5 | How You Say It\n\nWEEK 6 | Storytelling\n\nWEEK 7 | Virtual Rapport\n\nWEEK 8 | Vocal Engagement\n\nWEEK 9 | Slide Engagification\n\nWEEK 10 | Intro to OBS
X-ALT-DESC;FMTTYPE=text/html:<strong><span style="font-size:24px\;">* This is a 10-week program *</span><br />\nStarts: </strong>Wednesday\, February 3\, 2021<br />\n<strong>Ends: </strong>Wednesday\, April 7\, 2021<br />\nWeekly sessions are one-hour in length from 12:00 pm to 1:00 pm<br />\n<br />\n<span style="font-size:24px\;"><strong>Did You Know?</strong></span><br />\nIt is estimated that the average person will spend 100 minutes every day watching online videos in 2021. This is a 19% increase compared to daily viewing minutes in 2019\, which stood at 84. It is important to consider video marketing for your business to reach your target markets.<br />\n<br />\nYou know that you should be doing videos\, but maybe don&#39\;t have the confidence or knowledge to start. This 10-week program is designed especially for you!<br />\n<br />\n<strong><span style="font-size:24px\;">Program Details:</span></strong><br />\n&bull\; 10 Weeks: Starts February 3 and runs until April 7<br />\n&bull\; 1-Hour Zooms every Wednesday: 12:00 noon to 1:00 pm<br />\n&bull\; Private Facebook Group<br />\n<br />\n<strong><span style="font-size:24px\;">You will learn:</span></strong> (will include but not limited to)<br />\n&bull\; How to use a green screen and virtual backgrounds&nbsp\;<br />\n&bull\; Working with audio\, (mics and pre-recorded music)&nbsp\;<br />\n&bull\; Zoom basics&nbsp\;<br />\n&bull\; Lighting&nbsp\;<br />\n&bull\; Playing to the camera&nbsp\;<br />\n&bull\; How to make your slides more engaging&nbsp\;<br />\n&bull\; Engaging with your voice&nbsp\;<br />\n&bull\; Virtual selling tips<br />\n<br />\n<strong>InTENsive Virtual Engagement Program</strong><br />\n<strong>WEEK 1 | </strong>Intro and Overview<br />\n<strong>WEEK 2 |&nbsp\;</strong>Background<br />\n<strong>WEEK 3 |&nbsp\;</strong>Playing to the Camera<br />\n<strong>WEEK 4 |&nbsp\;</strong>Physicality + Energy<br />\n<strong>WEEK 5 |&nbsp\;</strong>How You Say It<br />\n<strong>WEEK 6 |&nbsp\;</strong>Storytelling<br />\n<strong>WEEK 7 |&nbsp\;</strong>Virtual Rapport<br />\n<strong>WEEK 8 |&nbsp\;</strong>Vocal Engagement<br />\n<strong>WEEK 9 |&nbsp\;</strong>Slide Engagification<br />\n<strong>WEEK 10 |&nbsp\;</strong>Intro to OBS
LOCATION:via Zoom
UID:e.2532.226
SEQUENCE:3
DTSTAMP:20260423T185039Z
URL:https://www.assiniboiachamber.ca/events/details/intensive-virtual-engagement-program-10-weeks-226
END:VEVENT

END:VCALENDAR
