BEGIN:VCALENDAR
VERSION:2.0
PRODID:-//ChamberMaster//Event Calendar 2.0//EN
METHOD:PUBLISH
X-PUBLISHED-TTL:P3D
REFRESH-INTERVAL:P3D
CALSCALE:GREGORIAN
BEGIN:VEVENT
DTSTART:20201029T140000Z
DTEND:20201031T210000Z
X-MICROSOFT-CDO-ALLDAYEVENT:FALSE
SUMMARY:Halloween Spooktacular
DESCRIPTION:Witches\, goblins\, ghosts and bats. Skeletons and big black cats! Whoo\, whoo\, who are you? We'll find out when you visit the Zoo!\n\nWhile we can't offer trick-or-treating this year\, we can still have fun dressing up for Halloween. Join our staff and volunteers who will be wearing their favourite costumes and watch our animals enjoy special Halloween treats and enrichment.\n\nStop by a selfie station and take a spooky photo!
X-ALT-DESC;FMTTYPE=text/html:<p style="box-sizing: inherit\; margin: 0px 0px 1em\; color: rgb(112\, 112\, 112)\; font-family: myriad-pro\, sans-serif\; font-size: 16px\;">Witches\, goblins\, ghosts and bats. Skeletons and big black cats! Whoo\, whoo\, who are you? We&#39\;ll find out when you visit the Zoo!</p>\n\n<p style="box-sizing: inherit\; margin: 0px 0px 1em\; color: rgb(112\, 112\, 112)\; font-family: myriad-pro\, sans-serif\; font-size: 16px\;">While we can&#39\;t offer trick-or-treating this year\, we can still have fun dressing up for Halloween. Join our staff and volunteers who will be wearing their favourite costumes and watch our animals enjoy special Halloween treats and enrichment.</p>\n\n<p style="box-sizing: inherit\; margin: 0px 0px 1em\; color: rgb(112\, 112\, 112)\; font-family: myriad-pro\, sans-serif\; font-size: 16px\;">Stop by a selfie station and take a spooky photo!</p>\n
LOCATION:2595 Roblin Blvd\, Winnipeg
UID:e.2532.220
SEQUENCE:3
DTSTAMP:20260424T005300Z
URL:https://www.assiniboiachamber.ca/events/details/halloween-spooktacular-220
END:VEVENT

END:VCALENDAR
