BEGIN:VCALENDAR
VERSION:2.0
PRODID:-//ChamberMaster//Event Calendar 2.0//EN
METHOD:PUBLISH
X-PUBLISHED-TTL:P3D
REFRESH-INTERVAL:P3D
CALSCALE:GREGORIAN
BEGIN:VEVENT
DTSTART:20241003T220000Z
DTEND:20241003T233000Z
X-MICROSOFT-CDO-ALLDAYEVENT:FALSE
SUMMARY:Greece & France Information Evening
DESCRIPTION:Calling all travel lovers and Chamber Travel Club Members...\n\n\n\nJoin us on October 3rd in the theatre room at the Venvi The Wellington\, for an information session with our travel partners Continental Travel and Collette. \n\n\n\nWe will take a look at the itineraries and plans for both the Spring 2025 trip to Greece and the Fall 2025 trip to the French Riviera. Come prepared with questions and your passport to secure your seat on one (or both) of next year's adventures. \n\n\n\nPreview the Greece Itinerary Here\n\nPreview the French Rivera Itinerary Here
X-ALT-DESC;FMTTYPE=text/html:Calling all travel lovers and Chamber Travel Club Members...<br />\n<br />\nJoin us on October 3rd in the theatre room at the Venvi The Wellington\, for an information session with our travel partners Continental Travel and Collette.&nbsp\;<br />\n<br />\nWe will take a look at the itineraries and plans for both the Spring 2025 trip to Greece and the Fall 2025 trip to the French Riviera. Come prepared with questions and your passport to secure your seat on one (or both) of next year&#39\;s adventures.&nbsp\;<br />\n<br />\n<a href="https://gateway.gocollette.com/link/1289004">Preview the Greece Itinerary Here</a><br />\n<a href="https://gateway.gocollette.com/link/1290046">Preview the French Rivera Itinerary Here</a>
LOCATION:Online: Recording provided by email following the event In-person: The Theatre Room at Venvi the Wellington (3161 Grant Ave\, Winnipeg)
UID:e.2532.642
SEQUENCE:3
DTSTAMP:20260421T065043Z
URL:https://www.assiniboiachamber.ca/events/details/greece-france-information-evening-642
END:VEVENT

END:VCALENDAR
