BEGIN:VCALENDAR
VERSION:2.0
PRODID:-//ChamberMaster//Event Calendar 2.0//EN
METHOD:PUBLISH
X-PUBLISHED-TTL:P3D
REFRESH-INTERVAL:P3D
CALSCALE:GREGORIAN
BEGIN:VEVENT
DTSTART:20250314T003000Z
DTEND:20250316T210000Z
X-MICROSOFT-CDO-ALLDAYEVENT:FALSE
SUMMARY:"Gossip"\, a film-noir inspired play
DESCRIPTION:A sly\, film-noir inspired comedy that follows a journalist investigating the shocking murder of a celebrity who collapsed in an art gallery surrounded by champagne-sipping socialites. Eccentric lawyers\, bickering celebrities\, and scheming politicians attempt to waylay the investigator's crusade to uncover truth in a world more interested in gossip. The venue is wheelchair accessible. Warning: Mature Language
X-ALT-DESC;FMTTYPE=text/html:A sly\, film-noir inspired comedy that follows a journalist investigating the shocking murder of a celebrity who collapsed in an art gallery surrounded by champagne-sipping socialites. Eccentric lawyers\, bickering celebrities\, and scheming politicians attempt to waylay the investigator&rsquo\;s crusade to uncover truth in a world more interested in gossip. The venue is wheelchair accessible. Warning: Mature Language
LOCATION:Gas Station Arts Centre 445 River Ave\, Unit 1\, Winnipeg\, MB
UID:e.2532.677
SEQUENCE:3
DTSTAMP:20260420T234421Z
URL:https://www.assiniboiachamber.ca/events/details/gossip-a-film-noir-inspired-play-677
END:VEVENT

END:VCALENDAR
