BEGIN:VCALENDAR
VERSION:2.0
PRODID:-//ChamberMaster//Event Calendar 2.0//EN
METHOD:PUBLISH
X-PUBLISHED-TTL:P3D
REFRESH-INTERVAL:P3D
CALSCALE:GREGORIAN
BEGIN:VEVENT
DTSTART:20200428T183000Z
DTEND:20200428T193000Z
X-MICROSOFT-CDO-ALLDAYEVENT:FALSE
SUMMARY:Getting Your Business Ready for Growth\, Post COVID-19
DESCRIPTION:In this seminar\, you will learn how to:\n\n1. Set priorities\, strategies\, plans and best practices\n\n2. Get found\, get trusted\, get sales and earn referrals\n\n3. Be made aware of top free resources\, platforms and tools to help you win\n\n\n\nMarc Palud is the Founder of RevGenApps.com\, a MarTech Agency focusing on software solutions and strategies that helps businesses grow. Since 2009\, Marc has worked with chambers of commerce and SMBs across Canada and the USA. He has provided training and education on marketing technologies that can have a positive impact and provide a competitive edge to local businesses. Marc is also a founding member and the current President of the Ritchot Chamber of Commerce.
X-ALT-DESC;FMTTYPE=text/html:In this seminar\, you will learn how to:<br />\n1. Set priorities\, strategies\, plans and best practices<br />\n2. Get found\, get trusted\, get sales and earn referrals<br />\n3. Be made aware of top free resources\, platforms and tools to help you win<br />\n<br />\nMarc Palud is the Founder of RevGenApps.com\, a MarTech Agency focusing on software solutions and strategies that helps businesses grow. Since 2009\, Marc has worked with chambers of commerce and SMBs across Canada and the USA. He has provided training and education on marketing technologies that can have a positive impact and provide a competitive edge to local businesses. Marc is also a founding member and the current President of the Ritchot Chamber of Commerce.
LOCATION:via Zoom
UID:e.2532.175
SEQUENCE:3
DTSTAMP:20260424T082511Z
URL:https://www.assiniboiachamber.ca/events/details/getting-your-business-ready-for-growth-post-covid-19-175
END:VEVENT

END:VCALENDAR
