BEGIN:VCALENDAR
VERSION:2.0
PRODID:-//ChamberMaster//Event Calendar 2.0//EN
METHOD:PUBLISH
X-PUBLISHED-TTL:P3D
REFRESH-INTERVAL:P3D
CALSCALE:GREGORIAN
BEGIN:VEVENT
DTSTART:20240608T150000Z
DTEND:20240608T200000Z
X-MICROSOFT-CDO-ALLDAYEVENT:FALSE
SUMMARY:FOLK AND FABLE HERE COMES THE SUN MARKET
DESCRIPTION:OLK AND FABLE HERE COMES THE SUN MARKET\n\nNeedle felting workshop being held by @dandelionwishes.art ! No crafting experience necessary! All ages and all skill levels are welcome. The workshop is free with the purchase of a kit! Early bird special: Sign up before June 1st to get your kit for only $18!Medium Linda McEachern Torro offering psychic readings with a Tarot twist! | @medium.lynda.mceachern.toro  Sue Mazur as Tierra Soul Magick doing Lenormand Card readings and Charm Casting readings! | @suemazurwellness 30+ local makers with exclusive Mother's Day promos and products! ?? Enjoy some tunes\, good vibes\, and good times with free entry for all! SAVE THE DATE:Deer Lodge CC\, 323 Bruce Ave East\, Winnipeg MB Saturday\, June 8th 10:00-3:00pm  Free admission Needle felting workshop with @dandelionwishes.art
X-ALT-DESC;FMTTYPE=text/html:OLK AND FABLE HERE COMES THE SUN MARKET<br />\nNeedle felting workshop being held by @dandelionwishes.art ! No crafting experience necessary! All ages and all skill levels are welcome. The workshop is free with the purchase of a kit! Early bird special: Sign up before June 1st to get your kit for only $18!Medium Linda McEachern Torro offering psychic readings with a Tarot twist! | @medium.lynda.mceachern.toro&nbsp\; Sue Mazur as Tierra Soul Magick doing Lenormand Card readings and Charm Casting readings! | @suemazurwellness 30+ local makers with exclusive Mother&rsquo\;s Day promos and products! ?? Enjoy some tunes\, good vibes\, and good times with free entry for all! SAVE THE DATE:Deer Lodge CC\, 323 Bruce Ave East\, Winnipeg MB Saturday\, June 8th 10:00-3:00pm&nbsp\; Free admission Needle felting workshop with @dandelionwishes.art
LOCATION:323 BRUCE AVE EAST DEER LODGE CC\, WINNIPEG MB
UID:e.2532.493
SEQUENCE:3
DTSTAMP:20260421T160737Z
URL:https://www.assiniboiachamber.ca/events/details/folk-and-fable-here-comes-the-sun-market-493
END:VEVENT

END:VCALENDAR
