BEGIN:VCALENDAR
VERSION:2.0
PRODID:-//ChamberMaster//Event Calendar 2.0//EN
METHOD:PUBLISH
X-PUBLISHED-TTL:P3D
REFRESH-INTERVAL:P3D
CALSCALE:GREGORIAN
BEGIN:VEVENT
DTSTART:20250126T170000Z
DTEND:20250126T220000Z
X-MICROSOFT-CDO-ALLDAYEVENT:FALSE
SUMMARY:Fireside Fun
DESCRIPTION:Join us at Fireside Fun for a cozy winter gathering\, indoors and out! This event is great for the all ages\, and admission is free. Free ski and snowshoe rentals Music and storytelling Unveiling of RENEWAL art installation all about prairie fire by Ebba Bohlin and Tracy Peters Outdoor bonfire and bannock making Prairie Art Contest winners gallery with Winnipeg Wildflower Project AND MORE Check our website soon for event schedule and more details: winnipeg.ca/livingprairie
X-ALT-DESC;FMTTYPE=text/html:Join us at Fireside Fun for a cozy winter gathering\, indoors and out! This event is great for the all ages\, and admission is free. Free ski and snowshoe rentals Music and storytelling Unveiling of RENEWAL art installation all about prairie fire by Ebba Bohlin and Tracy Peters Outdoor bonfire and bannock making Prairie Art Contest winners gallery with Winnipeg Wildflower Project AND MORE Check our website soon for event schedule and more details: winnipeg.ca/livingprairie
LOCATION:Living Prairie Museum 2795 Ness Ave.
UID:e.2532.682
SEQUENCE:3
DTSTAMP:20260421T023225Z
URL:https://www.assiniboiachamber.ca/events/details/fireside-fun-682
END:VEVENT

END:VCALENDAR
