BEGIN:VCALENDAR
VERSION:2.0
PRODID:-//ChamberMaster//Event Calendar 2.0//EN
METHOD:PUBLISH
X-PUBLISHED-TTL:P3D
REFRESH-INTERVAL:P3D
CALSCALE:GREGORIAN
BEGIN:VEVENT
DTSTART:20250320T180000Z
DTEND:20250320T210000Z
X-MICROSOFT-CDO-ALLDAYEVENT:FALSE
SUMMARY:Excel for Business
DESCRIPTION:Excel for Business\n\n3 hours\n\nJanuary 27 or or February 10th \n\n1pm to 4pm\n\n$250 - Chamber discount =$225\n\nDiscount for 3 people for more = $199 each\n\n\n\nRegistration: gttbc123@gmail.com\n\nRegistration form: See attached\n\n\n\nCourse Outline:\n\n\n\n\n\nA 3 hour class that provides some time saving tips and tricks to improve efficiency in day to day activities. \n\n\n\nCourse Description: \n\nThis course topics include Excel formulas\, charts\, and shortcuts you need to stand out in any business or finance role. The course starts with the very basics\, and gradually progress to creating professional spreadsheets such as financial models\, dynamic pivot tables\, and interactive dashboards. Throughout the course modules\, you'll learn the theory\, followed by practical exercises in the form of case studies to replicate the type of work you may encounter as an intern or full-time working professional.\n\n\n\nRegister at:\n\ngttbc123@gmail.com\n\n \n\n	\n		\n			Excel for Business\n		\n		\n			Registration:\n			 \n			Select\n			 \n		\n		\n			Training Date: \n			January 27 2025\n			 \n			 \n		\n		\n			Training Date: \n			February 10 2025 \n			 \n			 \n		\n		\n			 \n			 \n			 \n			 \n		\n		\n			Client information\n			 \n			 \n			 \n		\n		\n			Client Name:\n			 \n			 \n			 \n		\n		\n			Signature:\n			 \n			 \n			 \n		\n		\n			Print Name:\n			 \n			 \n			 \n		\n		\n			Title : \n			 \n			 \n			 \n		\n		\n			Date:\n			 \n			 \n			 \n		\n		\n			Telephone:\n			 \n			 \n			 \n		\n		\n			Address:\n			 \n			 \n			 \n		\n		\n			Excel experience: beginner\, Intermediate?
X-ALT-DESC;FMTTYPE=text/html:Excel for Business<br />\n3 hours<br />\nJanuary 27 or&nbsp\;or February 10th&nbsp\;<br />\n1pm to 4pm<br />\n$250 - Chamber discount =$225<br />\nDiscount for 3 people for more = $199 each<br />\n<br />\nRegistration: gttbc123@gmail.com<br />\nRegistration form: See attached<br />\n<br />\nCourse Outline:<br />\n<br />\n<br />\nA 3 hour class that provides some time saving tips and tricks to improve efficiency in day to day activities.&nbsp\;<br />\n<br />\nCourse Description:&nbsp\;<br />\nThis course topics include Excel formulas\, charts\, and shortcuts you need to stand out in any business or finance role. The course starts with the very basics\, and gradually progress to creating professional spreadsheets such as financial models\, dynamic pivot tables\, and interactive dashboards. Throughout the course modules\, you&rsquo\;ll learn the theory\, followed by practical exercises in the form of case studies to replicate the type of work you may encounter as an intern or full-time working professional.<br />\n<br />\nRegister at:<br />\n<a href="mailto:gttbc123@gmail.com?subject=Excel%20Training">gttbc123@gmail.com</a><br />\n&nbsp\;\n<table border="0" cellpadding="0" cellspacing="0" style="border-collapse:collapse\; width:633px">\n	<tbody>\n		<tr>\n			<td colspan="4" style="height:19px\; width:633px">Excel for Business</td>\n		</tr>\n		<tr>\n			<td style="height:24px">Registration:</td>\n			<td>&nbsp\;</td>\n			<td>Select</td>\n			<td>&nbsp\;</td>\n		</tr>\n		<tr>\n			<td style="height:24px">Training Date:&nbsp\;</td>\n			<td>January 27 2025</td>\n			<td>&nbsp\;</td>\n			<td>&nbsp\;</td>\n		</tr>\n		<tr>\n			<td style="height:24px">Training Date:&nbsp\;</td>\n			<td>February 10 2025&nbsp\;</td>\n			<td>&nbsp\;</td>\n			<td>&nbsp\;</td>\n		</tr>\n		<tr>\n			<td style="height:24px">&nbsp\;</td>\n			<td>&nbsp\;</td>\n			<td>&nbsp\;</td>\n			<td>&nbsp\;</td>\n		</tr>\n		<tr>\n			<td style="height:24px">Client information</td>\n			<td>&nbsp\;</td>\n			<td>&nbsp\;</td>\n			<td>&nbsp\;</td>\n		</tr>\n		<tr>\n			<td style="height:24px">Client Name:</td>\n			<td>&nbsp\;</td>\n			<td>&nbsp\;</td>\n			<td>&nbsp\;</td>\n		</tr>\n		<tr>\n			<td style="height:24px">Signature:</td>\n			<td>&nbsp\;</td>\n			<td>&nbsp\;</td>\n			<td>&nbsp\;</td>\n		</tr>\n		<tr>\n			<td style="height:24px">Print Name:</td>\n			<td>&nbsp\;</td>\n			<td>&nbsp\;</td>\n			<td>&nbsp\;</td>\n		</tr>\n		<tr>\n			<td style="height:24px">Title&nbsp\;:&nbsp\;</td>\n			<td>&nbsp\;</td>\n			<td>&nbsp\;</td>\n			<td>&nbsp\;</td>\n		</tr>\n		<tr>\n			<td style="height:24px">Date:</td>\n			<td>&nbsp\;</td>\n			<td>&nbsp\;</td>\n			<td>&nbsp\;</td>\n		</tr>\n		<tr>\n			<td style="height:24px">Telephone:</td>\n			<td>&nbsp\;</td>\n			<td>&nbsp\;</td>\n			<td>&nbsp\;</td>\n		</tr>\n		<tr>\n			<td style="height:24px">Address:</td>\n			<td>&nbsp\;</td>\n			<td>&nbsp\;</td>\n			<td>&nbsp\;</td>\n		</tr>\n		<tr>\n			<td style="height:24px">Excel experience: beginner\, Intermediate?</td>\n			<td>&nbsp\;</td>\n			<td>&nbsp\;</td>\n			<td>&nbsp\;</td>\n		</tr>\n	</tbody>\n</table>\n
LOCATION:Virtual/ remotely from the comfort of your office or home.
UID:e.2532.679
SEQUENCE:3
DTSTAMP:20260420T233936Z
URL:https://www.assiniboiachamber.ca/events/details/excel-for-business-679
END:VEVENT

END:VCALENDAR
