BEGIN:VCALENDAR
VERSION:2.0
PRODID:-//ChamberMaster//Event Calendar 2.0//EN
METHOD:PUBLISH
X-PUBLISHED-TTL:P3D
REFRESH-INTERVAL:P3D
CALSCALE:GREGORIAN
BEGIN:VEVENT
DTSTART:20250228T180000Z
DTEND:20250228T180000Z
X-MICROSOFT-CDO-ALLDAYEVENT:FALSE
SUMMARY:Enter to WIN a Jets Package Staycation with Venvi - The Wellington!
DESCRIPTION:All tours between 1/20/2025  2/28/2025 will be entered to win our exclusive Jets Package Staycation!\n\nPackage includes a 3 night stay @ The Wellington (April 11th 14th) with 2 tickets to the Jets vs Oilers game on April 13th. Winner will be contacted March 3rd and we will re-draw if they are unable to attend these dates.\n\n*Transportation to the stadium provided if needed*
X-ALT-DESC;FMTTYPE=text/html:<p><span style="color:rgb(0\, 0\, 0)">All tours between </span>1/20/2025 &ndash\;2/28/2025 will be entered to win our exclusive Jets Package Staycation!</p>\n\n<p>Package includes a 3 night stay @ The Wellington (April 11th&mdash\;14th)<span style="color:rgb(0\, 0\, 0)"> </span>with 2 tickets to the Jets vs Oilers game on April 13th<span style="color:rgb(0\, 0\, 0)">.&nbsp\;</span>Winner will be contacted March 3rd and we will re-draw if they are unable to attend these dates.</p>\n\n<p>*Transportation to the stadium provided if needed*</p>\n
LOCATION:Venvi The Wellington 3161 Grant Ave\, R3R 3R1
UID:e.2532.706
SEQUENCE:3
DTSTAMP:20260421T011907Z
URL:https://www.assiniboiachamber.ca/events/details/enter-to-win-a-jets-package-staycation-with-venvi-the-wellington-706
END:VEVENT

END:VCALENDAR
