BEGIN:VCALENDAR
VERSION:2.0
PRODID:-//ChamberMaster//Event Calendar 2.0//EN
METHOD:PUBLISH
X-PUBLISHED-TTL:P3D
REFRESH-INTERVAL:P3D
CALSCALE:GREGORIAN
BEGIN:VEVENT
DTSTART:20240810T150000Z
DTEND:20240810T200000Z
X-MICROSOFT-CDO-ALLDAYEVENT:FALSE
SUMMARY:END OF SUMMER MARKET
DESCRIPTION:Come on down and celebrate the last few weeks of summer with your local community! Without YOU these events wouldn't be made possible and our vendors count on your support to keep going! So let's show these amazing makers some love this August\n\nSip on some FRESH lemonade\, Move your body to some good tunes. Indulge a variety of gluten-free baking\, sourdough\, and/or gourmet cookies\, Discover local talent. Treat yourself to high quality products that are made with blood\, sweat\, tears\, and a whole lot of love!
X-ALT-DESC;FMTTYPE=text/html:Come on down and celebrate the last few weeks of summer with your local community! Without YOU these events wouldn&rsquo\;t be made possible and our vendors count on your support to keep going! So let&rsquo\;s show these amazing makers some love this August<br />\nSip on some FRESH lemonade\, Move your body to some good tunes. Indulge a variety of gluten-free baking\, sourdough\, and/or gourmet cookies\, Discover local talent. Treat yourself to high quality products that are made with blood\, sweat\, tears\, and a whole lot of love!
LOCATION:Deer Lodge CC 323 Bruce Avenue East
UID:e.2532.528
SEQUENCE:3
DTSTAMP:20260421T114424Z
URL:https://www.assiniboiachamber.ca/events/details/end-of-summer-market-528
END:VEVENT

END:VCALENDAR
