BEGIN:VCALENDAR
VERSION:2.0
PRODID:-//ChamberMaster//Event Calendar 2.0//EN
METHOD:PUBLISH
X-PUBLISHED-TTL:P3D
REFRESH-INTERVAL:P3D
CALSCALE:GREGORIAN
BEGIN:VEVENT
DTSTART;VALUE=DATE:20240905
DTEND;VALUE=DATE:20240906
TRANSP:TRANSPARENT
X-MICROSOFT-CDO-ALLDAYEVENT:TRUE
SUMMARY:Educational Assistant Program
DESCRIPTION:Students are trained to work with children who have special needs or behavioural challenges at all grade levels. Course includes the role of the Educational Assistants in schools\, special needs and behaviour theory\, instructional techniques\, observation and record keeping\, CPR\, Level C\, Non-Violent Crisis Intervention and MS Office. There will be two 50-hour practicums.
X-ALT-DESC;FMTTYPE=text/html:Students are trained to work with children who have special needs or behavioural challenges at all grade levels. Course includes the role of the Educational Assistants in schools\, special needs and behaviour theory\, instructional techniques\, observation and record keeping\, CPR\, Level C\, Non-Violent Crisis Intervention and MS Office. There will be two 50-hour practicums.
LOCATION:St. James-Assiniboia Continuing education 470 Hamilton Ave.\, 2nd Floor
UID:e.2532.497
SEQUENCE:3
DTSTAMP:20260421T081959Z
URL:https://www.assiniboiachamber.ca/events/details/educational-assistant-program-497
END:VEVENT

END:VCALENDAR
