BEGIN:VCALENDAR
VERSION:2.0
PRODID:-//ChamberMaster//Event Calendar 2.0//EN
METHOD:PUBLISH
X-PUBLISHED-TTL:P3D
REFRESH-INTERVAL:P3D
CALSCALE:GREGORIAN
BEGIN:VEVENT
DTSTART:20250712T140000Z
DTEND:20250712T220000Z
X-MICROSOFT-CDO-ALLDAYEVENT:FALSE
SUMMARY:Cuthbert Grant Day & 50th Anniversary
DESCRIPTION:Cuthbert Grant Day and Grant's Old Mill 50th Anniversary Celebration\n\nSaturday\, July 12th\, 9 am to 5 pm\n\nLocation: Grant's Old Mill\, 2777 Portage Ave @ Booth Drive\n\nGrant's Old Mill will undergo a complete reconstruction and park improvements. The City of Winnipeg and the Government of Manitoba have contributed funding towards the project. The mill's board has also launched a fundraising campaign.\n\n9 am to 11 am Fundraiser Pancake Breakfast with entertainment by the Spence Family Tradition - picnic style\, bring your lawn chairs and picnic blanket\n\nAll day:  Jigging contest\, kids' activities\, displays\, artisans\, and food trucks\n\nMain Stage Entertainment 12 pm to 5 pm\n\n- Opening Ceremonies\n\n- Mandy Ducharme\n\n- Mitchell Makoons\n\n- The Muddy River Band\n\n- Catie St. Germain\n\n\n\nAlong with performances by Irish and Scottish entertainers and the jigging finals.\n\nBike Winnipeg's Bike Valet will be onsite. Biking\, walking\, and taking transit are recommended.
X-ALT-DESC;FMTTYPE=text/html:<p>Cuthbert Grant Day and Grant&#39\;s Old Mill 50th Anniversary Celebration</p>\n\n<p>Saturday\, July 12th\, 9 am to 5 pm</p>\n\n<p>Location: Grant&#39\;s Old Mill\, 2777 Portage Ave @ Booth Drive</p>\n\n<p>Grant&#39\;s Old Mill will undergo a complete reconstruction and park improvements. The City of Winnipeg and the Government of Manitoba have contributed funding towards the project. The mill&#39\;s board has also launched a fundraising campaign.</p>\n\n<p>9 am to 11 am Fundraiser Pancake Breakfast with entertainment by the Spence Family Tradition - picnic style\, bring your lawn chairs and picnic blanket</p>\n\n<p>All day:&nbsp\; Jigging contest\, kids&#39\; activities\, displays\, artisans\, and food trucks</p>\n\n<p>Main Stage Entertainment 12 pm to 5 pm</p>\n\n<p>- Opening Ceremonies<br />\n- Mandy Ducharme<br />\n- Mitchell Makoons<br />\n- The Muddy River Band<br />\n- Catie St. Germain<br />\n<br />\nAlong with performances by Irish and Scottish entertainers and the jigging finals.</p>\n\n<p>Bike Winnipeg&#39\;s Bike Valet will be onsite. Biking\, walking\, and taking transit are recommended.</p>\n
LOCATION:Grant's Old Mill - 2777 Portage Avenue
UID:e.2532.748
SEQUENCE:3
DTSTAMP:20260420T171551Z
URL:https://www.assiniboiachamber.ca/events/details/cuthbert-grant-day-50th-anniversary-748
END:VEVENT

END:VCALENDAR
