BEGIN:VCALENDAR
VERSION:2.0
PRODID:-//ChamberMaster//Event Calendar 2.0//EN
METHOD:PUBLISH
X-PUBLISHED-TTL:P3D
REFRESH-INTERVAL:P3D
CALSCALE:GREGORIAN
BEGIN:VEVENT
DTSTART:20241019T223000Z
DTEND:20241020T033000Z
X-MICROSOFT-CDO-ALLDAYEVENT:FALSE
SUMMARY:Conceiving Dreams Dinner
DESCRIPTION:Adoption Options will be hosting our 21st Conceiving Dreams Dinner and Trivia Night on Saturday October 19\, 2024 at Canad Inns Polo Park. Come enjoy an evening of FUN and EXCITEMENT where tables of 10 compete against each other in a live interactive trivia game to try their luck at becoming the Trivia Champs. Each team answers questions from a range of topics using their experience\, wit\, wisdom\, and some luck to outsmart the opposing teams. In addition to the trivia game\, evening highlights include a great meal\, Rainbow Auction (player's choice)\, Silent Auction (bidding)\, Grand Prize and a 50/50 draw.
X-ALT-DESC;FMTTYPE=text/html:Adoption Options will be hosting our 21st Conceiving Dreams Dinner and Trivia Night on Saturday October 19\, 2024 at Canad Inns Polo Park. Come enjoy an evening of FUN and EXCITEMENT where tables of 10 compete against each other in a live interactive trivia game to try their luck at becoming the Trivia Champs. Each team answers questions from a range of topics using their experience\, wit\, wisdom\, and some luck to outsmart the opposing teams. In addition to the trivia game\, evening highlights include a great meal\, Rainbow Auction (player&#39\;s choice)\, Silent Auction (bidding)\, Grand Prize and a 50/50 draw.
LOCATION:Canad Inns Polo Park 1405 St Matthews Ave Winnipeg\, MB R3G 0K5
UID:e.2532.661
SEQUENCE:3
DTSTAMP:20260421T064815Z
URL:https://www.assiniboiachamber.ca/events/details/conceiving-dreams-dinner-661
END:VEVENT

END:VCALENDAR
