BEGIN:VCALENDAR
VERSION:2.0
PRODID:-//ChamberMaster//Event Calendar 2.0//EN
METHOD:PUBLISH
X-PUBLISHED-TTL:P3D
REFRESH-INTERVAL:P3D
CALSCALE:GREGORIAN
BEGIN:VEVENT
DTSTART;VALUE=DATE:20240903
DTEND;VALUE=DATE:20240904
TRANSP:TRANSPARENT
X-MICROSOFT-CDO-ALLDAYEVENT:TRUE
SUMMARY:Comprehensive Medical Terminology - On Line
DESCRIPTION:This 140 hour course will assist students in developing the language required to communicate effectively in a medical setting. Word structure\, diagnostic procedures and pharmacology\, as well as common medical terminology related to the body systems will be studies. This is excellent for those involved in the healthcare setting looking at upgrading their skills or looking to enter into a new career path. The course will be delivered on-line with an Instructor.
X-ALT-DESC;FMTTYPE=text/html:This 140 hour course will assist students in developing the language required to communicate effectively in a medical setting. Word structure\, diagnostic procedures and pharmacology\, as well as common medical terminology related to the body systems will be studies. This is excellent for those involved in the healthcare setting looking at upgrading their skills or looking to enter into a new career path. The course will be delivered on-line with an Instructor.
LOCATION:On - Line
UID:e.2532.498
SEQUENCE:3
DTSTAMP:20260421T082707Z
URL:https://www.assiniboiachamber.ca/events/details/comprehensive-medical-terminology-on-line-498
END:VEVENT

END:VCALENDAR
