BEGIN:VCALENDAR
VERSION:2.0
PRODID:-//ChamberMaster//Event Calendar 2.0//EN
METHOD:PUBLISH
X-PUBLISHED-TTL:P3D
REFRESH-INTERVAL:P3D
CALSCALE:GREGORIAN
BEGIN:VEVENT
DTSTART:20191220T180000Z
DTEND:20191220T200000Z
X-MICROSOFT-CDO-ALLDAYEVENT:FALSE
SUMMARY:Christmas Tea
DESCRIPTION:An annual event hosted by the Community Ambitions Day Service.\n\n\n\nLearn more about Community Ambitions Day Service Inc: http://communityambitions.ca/
X-ALT-DESC;FMTTYPE=text/html:An annual event hosted by the&nbsp\;Community Ambitions Day Service.<br />\n<br />\nLearn more about Community Ambitions Day Service Inc:&nbsp\;<a href="http://communityambitions.ca/">http://communityambitions.ca/</a>
LOCATION:Community Ambitions Day Service
UID:e.2532.145
SEQUENCE:3
DTSTAMP:20260424T150316Z
URL:https://www.assiniboiachamber.ca/events/details/christmas-tea-145
END:VEVENT

END:VCALENDAR
