BEGIN:VCALENDAR
VERSION:2.0
PRODID:-//ChamberMaster//Event Calendar 2.0//EN
METHOD:PUBLISH
X-PUBLISHED-TTL:P3D
REFRESH-INTERVAL:P3D
CALSCALE:GREGORIAN
BEGIN:VEVENT
DTSTART:20250418T003000Z
DTEND:20250418T013000Z
X-MICROSOFT-CDO-ALLDAYEVENT:FALSE
SUMMARY:Choral Presentation of the Shadow of the Cross
DESCRIPTION:Invitation to the Neighbourhood: April 17th | 7:30 PM Experience The Shadow of the Cross\, A Choral Performance of the Passion with our own Bennet Charter on Piano\, Sean Taubner of the WSO on Cello and Ron Krug directing. All Are Welcome   This is Our Easter Gift to the community!
X-ALT-DESC;FMTTYPE=text/html:Invitation to the Neighbourhood: April 17th | 7:30 PM Experience The Shadow of the Cross\, A Choral Performance of the Passion with our own Bennet Charter on Piano\, Sean Taubner of the WSO on Cello and Ron Krug directing. All Are Welcome &ndash\; This is Our Easter Gift to the community!
LOCATION:Prairie Spirit United Church 207 Thompson Drive Winnipeg
UID:e.2532.712
SEQUENCE:3
DTSTAMP:20260420T220806Z
URL:https://www.assiniboiachamber.ca/events/details/choral-presentation-of-the-shadow-of-the-cross-712
END:VEVENT

END:VCALENDAR
