BEGIN:VCALENDAR
VERSION:2.0
PRODID:-//ChamberMaster//Event Calendar 2.0//EN
METHOD:PUBLISH
X-PUBLISHED-TTL:P3D
REFRESH-INTERVAL:P3D
CALSCALE:GREGORIAN
BEGIN:VEVENT
DTSTART;VALUE=DATE:20210809
DTEND;VALUE=DATE:20210814
TRANSP:TRANSPARENT
X-MICROSOFT-CDO-ALLDAYEVENT:TRUE
SUMMARY:Change Management Practitioner Certification
DESCRIPTION:As Change is inevitable\, we need to develop our ability to deal with it - before\, during and after it happens.\n\nDeveloped in partnership with the Change Management Institute\, APMG Change Management certification is designed to equip you with knowledge\, theories and approaches to implement successful change initiatives.\n\n\n\nThis course prepares you for the APMG Change Management Foundation exam on Day 3 and the Practitioner exam on Day 5.\n\n\n\nYou will explore how change affects\, and is affected by\, individuals\, teams\, organizations and change leaders\; helping those responsible for change initiatives:\n\n	unlock resistance to change\n	provide effective support and motivation to individuals and teams to navigate change\n	draw from a range of approaches to implement change smoothly and effectively\n	manage and inform key stakeholders throughout the change process\n	speed up the implementation of change initiatives\n\nCertification is based on the Effective Change Manager's Handbook and aligns with the Change management Institute's Change Management Body of Knowledge.
X-ALT-DESC;FMTTYPE=text/html:As Change is inevitable\, we need to develop our ability to deal with it - before\, during and after it happens.<br />\nDeveloped in partnership with the Change Management Institute\, APMG Change Management certification is designed to equip you with knowledge\, theories and approaches to implement successful change initiatives.<br />\n<br />\nThis course prepares you for the APMG Change Management Foundation exam on Day 3 and the Practitioner exam on Day 5.<br />\n<br />\nYou will explore how change affects\, and is affected by\, individuals\, teams\, organizations and change leaders\; helping those responsible for change initiatives:\n<ul>\n	<li>unlock resistance to change</li>\n	<li>provide effective support and motivation to individuals and teams to navigate change</li>\n	<li>draw from a range of approaches to implement change smoothly and effectively</li>\n	<li>manage and inform key stakeholders throughout the change process</li>\n	<li>speed up the implementation of change initiatives</li>\n</ul>\nCertification is based on the Effective Change Manager&#39\;s Handbook and aligns with the Change management Institute&#39\;s Change Management Body of Knowledge.
LOCATION:
UID:e.2532.274
SEQUENCE:3
DTSTAMP:20260423T081235Z
URL:https://www.assiniboiachamber.ca/events/details/change-management-practitioner-certification-274
END:VEVENT

END:VCALENDAR
