BEGIN:VCALENDAR
VERSION:2.0
PRODID:-//ChamberMaster//Event Calendar 2.0//EN
METHOD:PUBLISH
X-PUBLISHED-TTL:P3D
REFRESH-INTERVAL:P3D
CALSCALE:GREGORIAN
BEGIN:VEVENT
DTSTART:20240603T133000Z
DTEND:20240603T213000Z
X-MICROSOFT-CDO-ALLDAYEVENT:FALSE
SUMMARY:Chamber Member Exclusive First Aid Training
DESCRIPTION:In Manitoba having adequate First Aid trained workers is a requirement\, not a suggestion. \n\nReview the Canadian Standard for First Aid in the Workplace to ensure you're meeting the First Aid requirements.\n\n\n\nAbout the Course\n\nEmergency First Aid Level C (Basic) is for Individuals requiring basic information on First Aid and CPR for their workplace\, school\, or personal interest. Upon Completion\, participants receive a certificate valid for 3 years. This course is designed to comply with the CSA Z1210-17 Standard. \n\nCourse Description\n\n\n\n\nThe course is 1 day in duration and will include:\n\n\n	Responding to an emergency\n	Recognizing a mental health emergency\n	CPR & AED for adults\, children\, and Infants\n	Bleeding and burn management\n	Medical emergencies
X-ALT-DESC;FMTTYPE=text/html:<span style="font-size:14px\;"><span style="font-family:arial\;"><span style="color: rgb(0\, 0\, 0)\;">In Manitoba having adequate First Aid trained workers is a requirement\, not a suggestion.&nbsp\;</span><br style="color: rgb(0\, 0\, 0)\; font-family: &quot\;Nunito Sans&quot\;\, -apple-system\, &quot\;system-ui&quot\;\, &quot\;Segoe UI&quot\;\, Roboto\, &quot\;Helvetica Neue&quot\;\, Helvetica\, sans-serif\; font-size: 12px\;" />\n<span style="color: rgb(0\, 0\, 0)\;">Review the&nbsp\;</span><a href="https://laws-lois.justice.gc.ca/eng/regulations/sor-86-304/page-29.html#:~:text=16.3%20(1)%20At%20every%20workplace\,is%20a%20first%20aid%20attendant." style="font-family: &quot\;Nunito Sans&quot\;\, -apple-system\, &quot\;system-ui&quot\;\, &quot\;Segoe UI&quot\;\, Roboto\, &quot\;Helvetica Neue&quot\;\, Helvetica\, sans-serif\; font-size: 12px\;">Canadian Standard for First Aid in the Workplace</a><span style="color: rgb(0\, 0\, 0)\;">&nbsp\;to ensure you&#39\;re meeting the First Aid requirements.<br />\n<br />\n<strong>About the Course</strong><br />\nEmergency First Aid Level C (Basic) is for Individuals requiring basic information on First Aid and CPR for their workplace\, school\, or personal interest. Upon Completion\, participants receive a certificate valid for 3 years. This course is designed to comply with the CSA Z1210-17 Standard.&nbsp\;</span></span></span>\n<div class="field field--name-field-course-description field--type-text-long field--label-visually-hidden" style="box-sizing: border-box\; font-size: 20px\; line-height: 1.63\; color: rgb(0\, 0\, 0)\; font-family: &quot\;Nunito Sans&quot\;\, -apple-system\, &quot\;system-ui&quot\;\, &quot\;Segoe UI&quot\;\, Roboto\, &quot\;Helvetica Neue&quot\;\, Helvetica\, sans-serif\;">\n<div class="field__label visually-hidden" style="box-sizing: border-box\; overflow: hidden !important\; clip: rect(1px\, 1px\, 1px\, 1px) !important\; width: 1px !important\; height: 1px !important\; overflow-wrap: normal !important\; position: absolute !important\;"><span style="font-size:14px\;"><span style="font-family:arial\;">Course Description</span></span></div>\n</div>\n\n<div style="box-sizing: border-box\; margin: 0px\; padding: 0px\; list-style-position: inside\;"><br />\n<span style="font-size:14px\;"><span style="font-family:arial\;">The course is 1 day in duration and will include:</span></span></div>\n\n<ul style="box-sizing: border-box\; margin: 0px\; padding-right: 0px\; padding-left: 0px\; color: rgb(0\, 0\, 0)\; font-family: &quot\;Nunito Sans&quot\;\, -apple-system\, &quot\;system-ui&quot\;\, &quot\;Segoe UI&quot\;\, Roboto\, &quot\;Helvetica Neue&quot\;\, Helvetica\, sans-serif\; font-size: 20px\;">\n	<li style="box-sizing: border-box\; margin: 0px\; padding: 0px\; list-style-position: inside\;"><span style="font-size:14px\;"><span style="font-family:arial\;">Responding to an emergency</span></span></li>\n	<li style="box-sizing: border-box\; margin: 0px\; padding: 0px\; list-style-position: inside\;"><span style="font-size:14px\;"><span style="font-family:arial\;">Recognizing a mental health emergency</span></span></li>\n	<li style="box-sizing: border-box\; margin: 0px\; padding: 0px\; list-style-position: inside\;"><span style="font-size:14px\;"><span style="font-family:arial\;">CPR &amp\; AED for adults\, children\, and Infants</span></span></li>\n	<li style="box-sizing: border-box\; margin: 0px\; padding: 0px\; list-style-position: inside\;"><span style="font-size:14px\;"><span style="font-family:arial\;">Bleeding and burn management</span></span></li>\n	<li style="box-sizing: border-box\; margin: 0px\; padding: 0px\; list-style-position: inside\;"><span style="font-size:14px\;"><span style="font-family:arial\;">Medical emergencies</span></span></li>\n</ul>\n
LOCATION:St. John Ambulance 1 St John Ambulance Way\, Winnipeg\,MB R3G 3H5 +1 800-471-7771 Free parking is available onsite on a first come first serve basis
UID:e.2532.474
SEQUENCE:3
DTSTAMP:20260421T160020Z
URL:https://www.assiniboiachamber.ca/events/details/chamber-member-exclusive-first-aid-training-474
END:VEVENT

END:VCALENDAR
