BEGIN:VCALENDAR
VERSION:2.0
PRODID:-//ChamberMaster//Event Calendar 2.0//EN
METHOD:PUBLISH
X-PUBLISHED-TTL:P3D
REFRESH-INTERVAL:P3D
CALSCALE:GREGORIAN
BEGIN:VEVENT
DTSTART:20211020T170000Z
DTEND:20211020T180000Z
X-MICROSOFT-CDO-ALLDAYEVENT:FALSE
SUMMARY:Chamber Member 101 - Oct 2021
DESCRIPTION:This is an introductory session to everything Chamber! Whether you are a new or long-standing member\, or you are curious as to what a membership with the Assiniboia Chamber provides you and your business - this session is for you!\n\n\n\nLearn how to get the most value from a Chamber membership. We will discuss what a Chamber is\, the value proposition\, and what's in it for you.\n\n	Networking\n	Business Savings\n	Events\n	Advocacy\n	Marketing
X-ALT-DESC;FMTTYPE=text/html:<span style="background:white\;"><span style="color:#333333\;"><span style="font-family:arial\,sans-serif\;"><span style="font-size:10.0pt\;">This is an introductory session to everything Chamber! Whether you are a new or long-standing member\, or you are curious as to what a membership with the Assiniboia Chamber provides you and your business - this session is for you!</span></span></span></span><br />\n<br />\n<span style="color:#333333\;"><span style="font-family:arial\,sans-serif\;"><span style="font-size:10.0pt\;"><span style="background:white\;">Learn how to get the most value from a Chamber membership. We will discuss what a Chamber is\, the value proposition\, and what&#39\;s in it for you.</span></span></span></span>\n<ul>\n	<li style="color:#333333\;line-height:normal\;"><span style="font-family:arial\,sans-serif\;"><span style="font-size:10.0pt\;">Networking</span></span></li>\n	<li style="color:#333333\;line-height:normal\;"><span style="font-family:arial\,sans-serif\;"><span style="font-size:10.0pt\;">Business Savings</span></span></li>\n	<li style="color:#333333\;line-height:normal\;"><span style="font-family:arial\,sans-serif\;"><span style="font-size:10.0pt\;">Events</span></span></li>\n	<li style="color:#333333\;line-height:normal\;"><span style="font-family:arial\,sans-serif\;"><span style="font-size:10.0pt\;">Advocacy</span></span></li>\n	<li style="color:#333333\;line-height:normal\;"><span style="font-family:arial\,sans-serif\;"><span style="font-size:10.0pt\;">Marketing</span></span></li>\n</ul>\n
LOCATION:Zoom Event Hosted by Assiniboia Chamber of Commerce
UID:e.2532.282
SEQUENCE:3
DTSTAMP:20260423T053723Z
URL:https://www.assiniboiachamber.ca/events/details/chamber-member-101-oct-2021-282
END:VEVENT

END:VCALENDAR
