BEGIN:VCALENDAR
VERSION:2.0
PRODID:-//ChamberMaster//Event Calendar 2.0//EN
METHOD:PUBLISH
X-PUBLISHED-TTL:P3D
REFRESH-INTERVAL:P3D
CALSCALE:GREGORIAN
BEGIN:VEVENT
DTSTART:20241023T163000Z
DTEND:20241023T183000Z
X-MICROSOFT-CDO-ALLDAYEVENT:FALSE
SUMMARY:Chamber Luncheon: Crime Prevention & Business Security
DESCRIPTION:Is your business protected? \n\nBusinesses today face a multitude of security challenges. Physical threats like break-ins\, assaults\, and robberies are increasing\, while cyber security concerns grow more complex with advancing technology. Financial security also remains a critical issue\, demanding constant attention and proactive measures. Join us in learning from our team of local experts about current trends and solutions for how your business can ensure you are protected on all fronts.\n\n\n\nModerator: Deryk Coward - Myers LLP\n\nPanelist: Alan Castell - alpha technologies\n\nPanelist: Ray Louie - The Gates on Roblin\n\nPanelist: Winnipeg Police
X-ALT-DESC;FMTTYPE=text/html:<p class="cvGsUA direction-ltr align-start para-style-body" style="color: rgb(31\, 56\, 108)\; font-family: &quot\;YAFdtQi73Xs 0&quot\;\, _fb_\, auto\; --cyV3ZQ: 14.6667px\; --gJPlXQ: 1.4\; line-height: 20px\;"><span class="OYPEnA font-feature-liga-off font-feature-clig-off font-feature-calt-off text-decoration-none text-strikethrough-none" style="font-kerning: none\;">Is your business protected?</span><span class="OYPEnA font-feature-liga-off font-feature-clig-off font-feature-calt-off text-decoration-none text-strikethrough-none white-space-prewrap" style="font-kerning: none\;"> </span></p>\n\n<p class="cvGsUA direction-ltr align-start para-style-body" style="color: rgb(31\, 56\, 108)\; font-family: &quot\;YAFdtQi73Xs 0&quot\;\, _fb_\, auto\; --cyV3ZQ: 14.6667px\; --gJPlXQ: 1.4\; line-height: 20px\;"><span class="OYPEnA font-feature-liga-off font-feature-clig-off font-feature-calt-off text-decoration-none text-strikethrough-none" style="font-kerning: none\;">Businesses today face a multitude of security challenges. Physical threats like break-ins\, assaults\, and robberies are increasing\, while cyber security concerns grow more complex with advancing technology. Financial security also remains a critical issue\, demanding constant attention and proactive measures. Join us in learning from our team of local experts about current trends and solutions for how your business can ensure you are protected on all fronts.<br />\n<br />\nModerator: Deryk Coward - Myers LLP<br />\nPanelist: Alan Castell - alpha technologies<br />\nPanelist: Ray Louie - The Gates on Roblin<br />\nPanelist: Winnipeg Police</span></p>\n
LOCATION:The Gates on Roblin
UID:e.2532.608
SEQUENCE:3
DTSTAMP:20260421T065208Z
URL:https://www.assiniboiachamber.ca/events/details/chamber-luncheon-crime-prevention-business-security-608
END:VEVENT

END:VCALENDAR
