BEGIN:VCALENDAR
VERSION:2.0
PRODID:-//ChamberMaster//Event Calendar 2.0//EN
METHOD:PUBLISH
X-PUBLISHED-TTL:P3D
REFRESH-INTERVAL:P3D
CALSCALE:GREGORIAN
BEGIN:VEVENT
DTSTART:20250115T173000Z
DTEND:20250115T193000Z
X-MICROSOFT-CDO-ALLDAYEVENT:FALSE
SUMMARY:Chamber Luncheon: Climate Action & Sustainability Practices
DESCRIPTION:Have you gone green?\n\nFrom paper straws and reusable packaging to electric vehicles\, businesses are quickly adapting to help slow the effects of climate change. Whether you are taking the first steps towards a more sustainable operation or are a certified green business\, our panel will discuss ways to elevate your practices and communicate your results.
X-ALT-DESC;FMTTYPE=text/html:<p class="cvGsUA direction-ltr align-start para-style-body" style="color: rgb(31\, 56\, 108)\; font-family: &quot\;YAFdtQi73Xs 0&quot\;\, _fb_\, auto\; --cyV3ZQ: 14.6667px\; --gJPlXQ: 1.4\; line-height: 20px\;"><span class="OYPEnA font-feature-liga-off font-feature-clig-off font-feature-calt-off text-decoration-none text-strikethrough-none" style="font-kerning: none\;">Have you gone green?</span></p>\n\n<p class="cvGsUA direction-ltr align-start para-style-body" style="color: rgb(31\, 56\, 108)\; font-family: &quot\;YAFdtQi73Xs 0&quot\;\, _fb_\, auto\; --cyV3ZQ: 14.6667px\; --gJPlXQ: 1.4\; line-height: 20px\;"><span class="OYPEnA font-feature-liga-off font-feature-clig-off font-feature-calt-off text-decoration-none text-strikethrough-none" style="font-kerning: none\;">From paper straws and reusable packaging to electric vehicles\, businesses are quickly adapting to help slow the effects of climate change. Whether you are taking the first steps towards a more sustainable operation or are a certified green business\, our panel will discuss ways to elevate your practices and communicate your results.</span></p>\n
LOCATION:Lakeview Signature Hotel 1999 Wellington Ave
UID:e.2532.610
SEQUENCE:3
DTSTAMP:20260421T023742Z
URL:https://www.assiniboiachamber.ca/events/details/chamber-luncheon-climate-action-sustainability-practices-610
END:VEVENT

END:VCALENDAR
