BEGIN:VCALENDAR
VERSION:2.0
PRODID:-//ChamberMaster//Event Calendar 2.0//EN
METHOD:PUBLISH
X-PUBLISHED-TTL:P3D
REFRESH-INTERVAL:P3D
CALSCALE:GREGORIAN
BEGIN:VEVENT
DTSTART:20200319T230000Z
DTEND:20200320T003000Z
X-MICROSOFT-CDO-ALLDAYEVENT:FALSE
SUMMARY:Buying Your First Home
DESCRIPTION:Welcome to our advice event specifically designed to guide First Time Home Buyers through the home-buying process. \n\n\n\nTogether we will walk step-by-step through the pre-approval process\, costs to buy a home\, searching for your new home\, the offer stage\, legal steps involved and much more!\n\n\n\nSpecial Guests\n\nRBC Branch Manager Dallas Huston\n\nRBC Mortgage Specialist Pamela Mansbridge\n\nRealtor Dennis Wiebe\, Realty Executives First Choice
X-ALT-DESC;FMTTYPE=text/html:<span style="font-size:14px\;">Welcome to our advice event specifically designed to guide First Time Home Buyers through the home-buying process.&nbsp\;<br />\n<br />\nTogether we will walk step-by-step through the pre-approval process\, costs to buy a home\, searching for your new home\, the offer stage\, legal steps involved and much more!<br />\n<br />\n<strong>Special Guests</strong><br />\nRBC Branch Manager Dallas Huston<br />\nRBC Mortgage Specialist Pamela Mansbridge<br />\nRealtor Dennis Wiebe\, Realty Executives First Choice</span>
LOCATION:RBC Collegiate Branch
UID:e.2532.169
SEQUENCE:3
DTSTAMP:20260424T114800Z
URL:https://www.assiniboiachamber.ca/events/details/buying-your-first-home-169
END:VEVENT

END:VCALENDAR
