BEGIN:VCALENDAR
VERSION:2.0
PRODID:-//ChamberMaster//Event Calendar 2.0//EN
METHOD:PUBLISH
X-PUBLISHED-TTL:P3D
REFRESH-INTERVAL:P3D
CALSCALE:GREGORIAN
BEGIN:VEVENT
DTSTART:20210204T153000Z
DTEND:20210204T183000Z
X-MICROSOFT-CDO-ALLDAYEVENT:FALSE
SUMMARY:Building Strong Communities: A Circular Approach
DESCRIPTION:This global online conference represents the first ever partnership between the Dutch government and Manitoba municipalities and will include participation from municipal and Indigenous governments\, the business community\, knowledge institutions and civil society. \n\n \n\nThe objective of the gathering will be to explore Circular Economy opportunities in Manitoba and how we can begin to transition to the global economy in order to protect our environment\, our markets and our way of life.\n\n\n\nHosted By: The Winnipeg Metropolitan Region\n\n\n\nPurchase Tickets Here
X-ALT-DESC;FMTTYPE=text/html:<span style="font-family:calibri\,sans-serif\;"><span style="font-size:12.0pt\;">This global online conference represents the first ever partnership between the Dutch government and Manitoba municipalities and will include participation from municipal and Indigenous governments\, the business community\, knowledge institutions and civil society.&nbsp\;</span></span><br />\n&nbsp\;<br />\n<span style="font-family:calibri\,sans-serif\;"><span style="font-size:12.0pt\;">The objective of the gathering will be to explore Circular Economy opportunities in Manitoba and how we can begin to transition to the global economy in order to protect our environment\, our markets and our way of life.</span></span><br />\n<br />\nHosted By: The Winnipeg Metropolitan Region<br />\n<br />\n<span style="font-family:calibri\,sans-serif\;"><span style="font-size:12.0pt\;"><strong><a href="https://www.eventbrite.com/e/building-strong-communities-a-circular-approach-tickets-130590466601?keep_tld=1"><span style="color:#000080\;">Purchase Tickets Here</span></a></strong></span></span><br />\n&nbsp\;
LOCATION:
UID:e.2532.252
SEQUENCE:3
DTSTAMP:20260423T184921Z
URL:https://www.assiniboiachamber.ca/events/details/building-strong-communities-a-circular-approach-252
END:VEVENT

END:VCALENDAR
