BEGIN:VCALENDAR
VERSION:2.0
PRODID:-//ChamberMaster//Event Calendar 2.0//EN
METHOD:PUBLISH
X-PUBLISHED-TTL:P3D
REFRESH-INTERVAL:P3D
CALSCALE:GREGORIAN
BEGIN:VEVENT
DTSTART:20200514T164500Z
DTEND:20200514T180000Z
X-MICROSOFT-CDO-ALLDAYEVENT:FALSE
SUMMARY:Annual General Meeting: Assiniboia Chamber of Commerce
DESCRIPTION:The Annual General Meeting (AGM) is an important yearly function for all members in good standing to attend and gives the Assiniboia Chamber of Commerce an opportunity to communicate with members and demonstrate organizational accountability\, while fulfilling the legal requirements of our organization under the Boards of Trade Act\, Part II. It also enables members to participate in the governance of the Assiniboia Chamber by electing the Board of Directors.\n\n\n\nThe AGM is a well-attended event. Members enjoy a report on activities and successes of the past year\, learn about organizational initiatives for the year ahead\, ask questions about the financial statements and pass a motion to accept the slate of Board members as presented. They also hear from the elected Chair of the Board.
X-ALT-DESC;FMTTYPE=text/html:<span style="font-size:14px\;"><span style="font-family:arial\;">The Annual General Meeting (AGM) is an important yearly function for all members in good standing to attend and gives the Assiniboia Chamber of Commerce an opportunity to communicate with members and demonstrate organizational accountability\, while fulfilling the legal requirements of our organization under the Boards of Trade Act\, Part II. It also enables members to participate in the governance of the Assiniboia Chamber by electing the Board of Directors.<br />\n<br />\nThe AGM is a well-attended event. Members enjoy a report on activities and successes of the past year\, learn about organizational initiatives for the year ahead\, ask questions about the financial statements and pass a motion to accept the slate of Board members as presented. They also hear from the elected Chair of the Board.&nbsp\;</span></span>
LOCATION:Zoom
UID:e.2532.177
SEQUENCE:3
DTSTAMP:20260424T064253Z
URL:https://www.assiniboiachamber.ca/events/details/annual-general-meeting-assiniboia-chamber-of-commerce-177
END:VEVENT

END:VCALENDAR
